BEGIN:VCALENDAR
VERSION:2.0
PRODID:-//Weston Museum - ECPv6.15.20//NONSGML v1.0//EN
CALSCALE:GREGORIAN
METHOD:PUBLISH
X-WR-CALNAME:Weston Museum
X-ORIGINAL-URL:https://westonmuseum.org
X-WR-CALDESC:Events for Weston Museum
REFRESH-INTERVAL;VALUE=DURATION:PT1H
X-Robots-Tag:noindex
X-PUBLISHED-TTL:PT1H
BEGIN:VTIMEZONE
TZID:Europe/London
BEGIN:DAYLIGHT
TZOFFSETFROM:+0000
TZOFFSETTO:+0100
TZNAME:BST
DTSTART:20210328T010000
END:DAYLIGHT
BEGIN:STANDARD
TZOFFSETFROM:+0100
TZOFFSETTO:+0000
TZNAME:GMT
DTSTART:20211031T010000
END:STANDARD
BEGIN:DAYLIGHT
TZOFFSETFROM:+0000
TZOFFSETTO:+0100
TZNAME:BST
DTSTART:20220327T010000
END:DAYLIGHT
BEGIN:STANDARD
TZOFFSETFROM:+0100
TZOFFSETTO:+0000
TZNAME:GMT
DTSTART:20221030T010000
END:STANDARD
BEGIN:DAYLIGHT
TZOFFSETFROM:+0000
TZOFFSETTO:+0100
TZNAME:BST
DTSTART:20230326T010000
END:DAYLIGHT
BEGIN:STANDARD
TZOFFSETFROM:+0100
TZOFFSETTO:+0000
TZNAME:GMT
DTSTART:20231029T010000
END:STANDARD
BEGIN:DAYLIGHT
TZOFFSETFROM:+0000
TZOFFSETTO:+0100
TZNAME:BST
DTSTART:20240331T010000
END:DAYLIGHT
BEGIN:STANDARD
TZOFFSETFROM:+0100
TZOFFSETTO:+0000
TZNAME:GMT
DTSTART:20241027T010000
END:STANDARD
END:VTIMEZONE
BEGIN:VTIMEZONE
TZID:UTC
BEGIN:STANDARD
TZOFFSETFROM:+0000
TZOFFSETTO:+0000
TZNAME:UTC
DTSTART:20210101T000000
END:STANDARD
END:VTIMEZONE
BEGIN:VEVENT
DTSTART;VALUE=DATE:20220521
DTEND;VALUE=DATE:20221106
DTSTAMP:20260423T113823
CREATED:20220112T155855Z
LAST-MODIFIED:20220530T102428Z
UID:10000801-1653091200-1667692799@westonmuseum.org
SUMMARY:Weston's High Street Community Exhibition
DESCRIPTION:Lance and Lance department store \nExplore Weston’s High Street in this community exhibition and remember shopping\, entertainment and leisure in the past.  The exhibition is a celebration of the High Street and will act as a legacy project.  It has been supported by North Somerset Council’s Heritage Action Zones. \nWeston has two Heritage Action Zones (HAZ) thanks to a combined investment of £2m from Historic England. \nGreat Weston Heritage Action Zone \nNorth Somerset Council was awarded £800k funding and Heritage Action Zone status by Historic England in 2017. It was one of the first places in England to receive this status. This project will end in September 2022. \nThe Great Weston Heritage Action Zone aims to: \n• unlock potential in town centre areas that are rich in heritage\n• to bring historic places back to life\n• to attract residents\, tourists\, businesses and investors\, and\n• to create economic growth. \nHigh Street Heritage Action Zone \nIn 2020\, North Somerset Council received a further £1.1m from Historic England when it was awarded High Street Heritage Action Zone status. This project will run until March 2024. \nWork includes: \n• engaging communities with the heritage of Weston through volunteering and stakeholder initiatives\n• restoring and repairing original features in historic buildings\n• delivering a comprehensive public realm scheme to enhance Station Road\, Walliscote Road and Alexandra Parade\n• improving the exterior of retail units through the delivery of a shopfront enhancement scheme\n• funding the development of training opportunities in traditional heritage conversation skills\n• delivering a cultural programme\, in partnership with Culture Weston.
URL:https://westonmuseum.org/event/westons-high-street-community-exhibition/
LOCATION:Weston Museum\, Burlington Street\, Weston-super-Mare\, Somerset\, BS23 1PR\, United Kingdom
CATEGORIES:Adult,Displays and Exhibitions,Educational,Family,Free,Museum Events,Special Events
ATTACH;FMTTYPE=image/jpeg:https://westonmuseum.org/wp-content/uploads/2022/01/Lance-Lance-2-001.jpg
ORGANIZER;CN="Weston Museum":MAILTO:museum@wsm-tc.gov.uk
END:VEVENT
BEGIN:VEVENT
DTSTART;TZID=UTC:20221103T110000
DTEND;TZID=UTC:20221103T120000
DTSTAMP:20260423T113823
CREATED:20220728T080137Z
LAST-MODIFIED:20221013T131406Z
UID:10001162-1667473200-1667476800@westonmuseum.org
SUMMARY:Heritage Talk - Grove Park War Memorial
DESCRIPTION:The memorial has been in Grove Park since 1922\, and lists the names of 402 men who died in World War One\, and 186 names from World War Two. Come and hear a free talk about the war memorial in Grove Park\, Weston-super-Mare. \n 
URL:https://westonmuseum.org/event/heritage-talk-grove-park-war-memorial/
LOCATION:Weston Museum\, Burlington Street\, Weston-super-Mare\, Somerset\, BS23 1PR\, United Kingdom
CATEGORIES:Adult,Educational,Free,Museum Events,Regular Activities,Talks & tours
ATTACH;FMTTYPE=image/jpeg:https://westonmuseum.org/wp-content/uploads/2022/07/Heritage-Talks.jpg
ORGANIZER;CN="Weston Museum":MAILTO:museum@wsm-tc.gov.uk
END:VEVENT
BEGIN:VEVENT
DTSTART;TZID=UTC:20221117T110000
DTEND;TZID=UTC:20221117T120000
DTSTAMP:20260423T113823
CREATED:20220728T081642Z
LAST-MODIFIED:20221013T131225Z
UID:10001161-1668682800-1668686400@westonmuseum.org
SUMMARY:Heritage Talk - Clara's Cottage Kitchen & 20th Century Kitchenalia
DESCRIPTION:Come along and have a closer look at the old kitchen inside Clara’s Cottage.  There will also be the opportunity to handle some kitchen related items from the 20th century.
URL:https://westonmuseum.org/event/heritage-talk-claras-cottage-kitchen-20th-century-kitchenalia/
LOCATION:Weston Museum\, Burlington Street\, Weston-super-Mare\, Somerset\, BS23 1PR\, United Kingdom
CATEGORIES:Adult,Educational,Free,Museum Events,Regular Activities,Talks & tours
ATTACH;FMTTYPE=image/jpeg:https://westonmuseum.org/wp-content/uploads/2022/07/Heritage-Talks.jpg
ORGANIZER;CN="Weston Museum":MAILTO:museum@wsm-tc.gov.uk
END:VEVENT
BEGIN:VEVENT
DTSTART;TZID=UTC:20221119T100000
DTEND;TZID=UTC:20221119T120000
DTSTAMP:20260423T113823
CREATED:20220927T114618Z
LAST-MODIFIED:20221116T175902Z
UID:10000805-1668852000-1668859200@westonmuseum.org
SUMMARY:Rainbow Sands Workshop
DESCRIPTION:Join us and Rainbow Sands for a Carousel Activity Workshop.\nThroughout the 45-minute session you will complete 4 activities to take home with you. \nActivity 1: Make the front to a homemade Christmas card using brightly coloured sand and glitter.\nActivity 2: Attach the front of your Christmas design to card and write the card to the lucky recipient.\nActivity 3: decorate a mini handheld mirror\nActivity 4: make a foam Christmas wreath \nPlease note that activities may vary depending on availability. \nPlease note that only 1 adult per 1 child may be admitted – due to health and safety. Adults must stay with the children throughout the workshop\, and adult support may be needed for younger children. \nWorkshop Times:\n10:00 – 10:45\n11:00 – 11:45 \nTicket Link:\nhttps://www.ticketsource.co.uk/westonmuseum/e-jemvpp\nCost:\n£7.00 per child.
URL:https://westonmuseum.org/event/rainbow-sands-workshop-191122/
LOCATION:Weston Museum\, Burlington Street\, Weston-super-Mare\, Somerset\, BS23 1PR\, United Kingdom
CATEGORIES:Adult,Educational,Family,Museum Events,Regular Activities,Young person (ages 16-24)
ATTACH;FMTTYPE=image/png:https://westonmuseum.org/wp-content/uploads/2022/09/Rainbow-Sands-NOVEMBER-Website.png
END:VEVENT
BEGIN:VEVENT
DTSTART;TZID=Europe/London:20221123T100000
DTEND;TZID=Europe/London:20230304T160000
DTSTAMP:20260423T113823
CREATED:20221123T115536Z
LAST-MODIFIED:20221123T120918Z
UID:10001280-1669197600-1677945600@westonmuseum.org
SUMMARY:Community Exhibition - Holly Hedge Animal Sanctuary
DESCRIPTION:Come and see our latest community exhibition which is about Holly Hedge animal sanctuary.  Holly Hedge is an independent charity based in Barrow Gurney\, that rescues cats and dogs.  There is also a Holly Hedge charity shop in Nailsea.  On display are photographs and newspaper cuttings about the work of the sanctuary\, fund raising activities and lots of cute dogs and cats that have gone to happy and loving homes.  Explore our touch screen interactive in the gallery space\, to find out more. \nHolly Hedge community exhibition
URL:https://westonmuseum.org/event/community-exhibition-holly-hedge-animal-sanctuary/
LOCATION:Weston Museum\, Burlington Street\, Weston-super-Mare\, Somerset\, BS23 1PR\, United Kingdom
CATEGORIES:Adult,Displays and Exhibitions,Educational,Family,Free
ATTACH;FMTTYPE=image/png:https://westonmuseum.org/wp-content/uploads/2022/11/re-sized-Holly-Hedge-image-for-website.png
ORGANIZER;CN="Weston Museum":MAILTO:museum@wsm-tc.gov.uk
END:VEVENT
BEGIN:VEVENT
DTSTART;TZID=UTC:20221126T100000
DTEND;TZID=UTC:20221126T130000
DTSTAMP:20260423T113823
CREATED:20220824T100338Z
LAST-MODIFIED:20220824T103023Z
UID:10001154-1669456800-1669467600@westonmuseum.org
SUMMARY:Bathbomb Making Workshop
DESCRIPTION:Our ever-popular Bathbomb Making Workshops are BACK for with a Christmassy twist!\n\n\n\n\nJoin us and Art in Mind to make 2 bathbombs in our ever-popular workshop! With this make and take workshop\, you get to enjoy making them with us\, then take them home to see how they fizz and fill your bathtub with colour. With a special Christmas twist\, you wrap your bathbombs up to make ideal presents!\n\n\nWorkshop Times:\n10:00 – 10:45\n11:00 – 11:45\n12:00 – 12:45 \nTicket Link:\nhttps://www.ticketsource.co.uk/whats-on/weston-super-mare/weston-museum/bathbomb-making-workshop/e-ppkyae\nCost:\n£6.00 per person.
URL:https://westonmuseum.org/event/bathbomb-making-workshop-261122/
LOCATION:Weston Museum\, Burlington Street\, Weston-super-Mare\, Somerset\, BS23 1PR\, United Kingdom
CATEGORIES:Adult,Educational,Family,Museum Events,Special Events,Young person (ages 16-24)
ATTACH;FMTTYPE=image/png:https://westonmuseum.org/wp-content/uploads/2022/08/Art-in-Mind-Workshop-WEB-IMAGE.png
END:VEVENT
BEGIN:VEVENT
DTSTART;TZID=UTC:20221126T100000
DTEND;TZID=UTC:20221126T160000
DTSTAMP:20260423T113823
CREATED:20221021T150419Z
LAST-MODIFIED:20221021T150419Z
UID:10000812-1669456800-1669478400@westonmuseum.org
SUMMARY:Wildlife Photographer of the Year world-renowned exhibition
DESCRIPTION:Stunning images unveiled as Wildlife Photographer of the Year arrives in Weston Museum \nExhibition information: \nDates: 26 November to 8 February \nThe world-renowned exhibition\, on loan from the Natural History Museum in London\, will open at Weston Museum on 26 November 2022\, featuring exceptional images which capture fascinating animal behaviour\, spectacular species and the breathtaking diversity of the natural world. Using photography’s unique emotive power to engage and inspire audiences\, the images shine a light on stories and species around the world and encourage a future of advocating for the planet. \nWildlife Photographer of the Year is the most prestigious photography event of its kind\, providing a global platform that showcases some of the best photography talent from around the world for over 55 years. Launching in 1965\, today the competition receives entries from over 90 countries all over the world\, highlighting its enduring appeal. This year’s award-winning images will embark on an international tour that will allow them to be seen by well over a million people.   \nThe Wildlife Photographer of the Year 59 competition opens for entries on 17 October and closes on 8 December 2022. \nThe judges of the fifty-eighth Wildlife Photographer of the Year competition had an extremely difficult task. Every entry was judged anonymously on its creativity\, originality\, and technical excellence by an international panel of industry experts.  \nThe winning images\, including the prestigious Grand Title Award winners\, were announced on 11 October 2022 during a glittering awards show hosted by wildlife presenter and conservationist Chris Packham.  \nDr Doug Gurr\, Director of the Natural History Museum says\, ‘Captured by some of the best photography talent from around the world\, the 100 photographs encourage curiosity\, connection and wonder. These inspiring images convey human impact on the natural world in a way that words cannot – from the urgency of declining biodiversity to the inspiring bounce back of a protected species.’
URL:https://westonmuseum.org/event/wildlife-photographer-of-the-year-world-renowned-exhibition/2022-11-26/
LOCATION:Somerset
CATEGORIES:Displays and Exhibitions,Educational,Family,Free,Special Events
ATTACH;FMTTYPE=image/png:https://westonmuseum.org/wp-content/uploads/2022/10/Learn-Nails-at-Home-Youtube-Thumbnail-copy.png
END:VEVENT
BEGIN:VEVENT
DTSTART;TZID=UTC:20221127T100000
DTEND;TZID=UTC:20221127T160000
DTSTAMP:20260423T113823
CREATED:20221021T150419Z
LAST-MODIFIED:20221021T150419Z
UID:10000813-1669543200-1669564800@westonmuseum.org
SUMMARY:Wildlife Photographer of the Year world-renowned exhibition
DESCRIPTION:Stunning images unveiled as Wildlife Photographer of the Year arrives in Weston Museum \nExhibition information: \nDates: 26 November to 8 February \nThe world-renowned exhibition\, on loan from the Natural History Museum in London\, will open at Weston Museum on 26 November 2022\, featuring exceptional images which capture fascinating animal behaviour\, spectacular species and the breathtaking diversity of the natural world. Using photography’s unique emotive power to engage and inspire audiences\, the images shine a light on stories and species around the world and encourage a future of advocating for the planet. \nWildlife Photographer of the Year is the most prestigious photography event of its kind\, providing a global platform that showcases some of the best photography talent from around the world for over 55 years. Launching in 1965\, today the competition receives entries from over 90 countries all over the world\, highlighting its enduring appeal. This year’s award-winning images will embark on an international tour that will allow them to be seen by well over a million people.   \nThe Wildlife Photographer of the Year 59 competition opens for entries on 17 October and closes on 8 December 2022. \nThe judges of the fifty-eighth Wildlife Photographer of the Year competition had an extremely difficult task. Every entry was judged anonymously on its creativity\, originality\, and technical excellence by an international panel of industry experts.  \nThe winning images\, including the prestigious Grand Title Award winners\, were announced on 11 October 2022 during a glittering awards show hosted by wildlife presenter and conservationist Chris Packham.  \nDr Doug Gurr\, Director of the Natural History Museum says\, ‘Captured by some of the best photography talent from around the world\, the 100 photographs encourage curiosity\, connection and wonder. These inspiring images convey human impact on the natural world in a way that words cannot – from the urgency of declining biodiversity to the inspiring bounce back of a protected species.’
URL:https://westonmuseum.org/event/wildlife-photographer-of-the-year-world-renowned-exhibition/2022-11-27/
LOCATION:Somerset
CATEGORIES:Displays and Exhibitions,Educational,Family,Free,Special Events
ATTACH;FMTTYPE=image/png:https://westonmuseum.org/wp-content/uploads/2022/10/Learn-Nails-at-Home-Youtube-Thumbnail-copy.png
END:VEVENT
BEGIN:VEVENT
DTSTART;TZID=UTC:20221128T100000
DTEND;TZID=UTC:20221128T160000
DTSTAMP:20260423T113823
CREATED:20221021T150419Z
LAST-MODIFIED:20221021T150419Z
UID:10000814-1669629600-1669651200@westonmuseum.org
SUMMARY:Wildlife Photographer of the Year world-renowned exhibition
DESCRIPTION:Stunning images unveiled as Wildlife Photographer of the Year arrives in Weston Museum \nExhibition information: \nDates: 26 November to 8 February \nThe world-renowned exhibition\, on loan from the Natural History Museum in London\, will open at Weston Museum on 26 November 2022\, featuring exceptional images which capture fascinating animal behaviour\, spectacular species and the breathtaking diversity of the natural world. Using photography’s unique emotive power to engage and inspire audiences\, the images shine a light on stories and species around the world and encourage a future of advocating for the planet. \nWildlife Photographer of the Year is the most prestigious photography event of its kind\, providing a global platform that showcases some of the best photography talent from around the world for over 55 years. Launching in 1965\, today the competition receives entries from over 90 countries all over the world\, highlighting its enduring appeal. This year’s award-winning images will embark on an international tour that will allow them to be seen by well over a million people.   \nThe Wildlife Photographer of the Year 59 competition opens for entries on 17 October and closes on 8 December 2022. \nThe judges of the fifty-eighth Wildlife Photographer of the Year competition had an extremely difficult task. Every entry was judged anonymously on its creativity\, originality\, and technical excellence by an international panel of industry experts.  \nThe winning images\, including the prestigious Grand Title Award winners\, were announced on 11 October 2022 during a glittering awards show hosted by wildlife presenter and conservationist Chris Packham.  \nDr Doug Gurr\, Director of the Natural History Museum says\, ‘Captured by some of the best photography talent from around the world\, the 100 photographs encourage curiosity\, connection and wonder. These inspiring images convey human impact on the natural world in a way that words cannot – from the urgency of declining biodiversity to the inspiring bounce back of a protected species.’
URL:https://westonmuseum.org/event/wildlife-photographer-of-the-year-world-renowned-exhibition/2022-11-28/
LOCATION:Somerset
CATEGORIES:Displays and Exhibitions,Educational,Family,Free,Special Events
ATTACH;FMTTYPE=image/png:https://westonmuseum.org/wp-content/uploads/2022/10/Learn-Nails-at-Home-Youtube-Thumbnail-copy.png
END:VEVENT
BEGIN:VEVENT
DTSTART;TZID=UTC:20221129T100000
DTEND;TZID=UTC:20221129T160000
DTSTAMP:20260423T113823
CREATED:20221021T150419Z
LAST-MODIFIED:20221021T150419Z
UID:10000815-1669716000-1669737600@westonmuseum.org
SUMMARY:Wildlife Photographer of the Year world-renowned exhibition
DESCRIPTION:Stunning images unveiled as Wildlife Photographer of the Year arrives in Weston Museum \nExhibition information: \nDates: 26 November to 8 February \nThe world-renowned exhibition\, on loan from the Natural History Museum in London\, will open at Weston Museum on 26 November 2022\, featuring exceptional images which capture fascinating animal behaviour\, spectacular species and the breathtaking diversity of the natural world. Using photography’s unique emotive power to engage and inspire audiences\, the images shine a light on stories and species around the world and encourage a future of advocating for the planet. \nWildlife Photographer of the Year is the most prestigious photography event of its kind\, providing a global platform that showcases some of the best photography talent from around the world for over 55 years. Launching in 1965\, today the competition receives entries from over 90 countries all over the world\, highlighting its enduring appeal. This year’s award-winning images will embark on an international tour that will allow them to be seen by well over a million people.   \nThe Wildlife Photographer of the Year 59 competition opens for entries on 17 October and closes on 8 December 2022. \nThe judges of the fifty-eighth Wildlife Photographer of the Year competition had an extremely difficult task. Every entry was judged anonymously on its creativity\, originality\, and technical excellence by an international panel of industry experts.  \nThe winning images\, including the prestigious Grand Title Award winners\, were announced on 11 October 2022 during a glittering awards show hosted by wildlife presenter and conservationist Chris Packham.  \nDr Doug Gurr\, Director of the Natural History Museum says\, ‘Captured by some of the best photography talent from around the world\, the 100 photographs encourage curiosity\, connection and wonder. These inspiring images convey human impact on the natural world in a way that words cannot – from the urgency of declining biodiversity to the inspiring bounce back of a protected species.’
URL:https://westonmuseum.org/event/wildlife-photographer-of-the-year-world-renowned-exhibition/2022-11-29/
LOCATION:Somerset
CATEGORIES:Displays and Exhibitions,Educational,Family,Free,Special Events
ATTACH;FMTTYPE=image/png:https://westonmuseum.org/wp-content/uploads/2022/10/Learn-Nails-at-Home-Youtube-Thumbnail-copy.png
END:VEVENT
BEGIN:VEVENT
DTSTART;TZID=UTC:20221130T100000
DTEND;TZID=UTC:20221130T160000
DTSTAMP:20260423T113823
CREATED:20221021T150419Z
LAST-MODIFIED:20221021T150419Z
UID:10000816-1669802400-1669824000@westonmuseum.org
SUMMARY:Wildlife Photographer of the Year world-renowned exhibition
DESCRIPTION:Stunning images unveiled as Wildlife Photographer of the Year arrives in Weston Museum \nExhibition information: \nDates: 26 November to 8 February \nThe world-renowned exhibition\, on loan from the Natural History Museum in London\, will open at Weston Museum on 26 November 2022\, featuring exceptional images which capture fascinating animal behaviour\, spectacular species and the breathtaking diversity of the natural world. Using photography’s unique emotive power to engage and inspire audiences\, the images shine a light on stories and species around the world and encourage a future of advocating for the planet. \nWildlife Photographer of the Year is the most prestigious photography event of its kind\, providing a global platform that showcases some of the best photography talent from around the world for over 55 years. Launching in 1965\, today the competition receives entries from over 90 countries all over the world\, highlighting its enduring appeal. This year’s award-winning images will embark on an international tour that will allow them to be seen by well over a million people.   \nThe Wildlife Photographer of the Year 59 competition opens for entries on 17 October and closes on 8 December 2022. \nThe judges of the fifty-eighth Wildlife Photographer of the Year competition had an extremely difficult task. Every entry was judged anonymously on its creativity\, originality\, and technical excellence by an international panel of industry experts.  \nThe winning images\, including the prestigious Grand Title Award winners\, were announced on 11 October 2022 during a glittering awards show hosted by wildlife presenter and conservationist Chris Packham.  \nDr Doug Gurr\, Director of the Natural History Museum says\, ‘Captured by some of the best photography talent from around the world\, the 100 photographs encourage curiosity\, connection and wonder. These inspiring images convey human impact on the natural world in a way that words cannot – from the urgency of declining biodiversity to the inspiring bounce back of a protected species.’
URL:https://westonmuseum.org/event/wildlife-photographer-of-the-year-world-renowned-exhibition/2022-11-30/
LOCATION:Somerset
CATEGORIES:Displays and Exhibitions,Educational,Family,Free,Special Events
ATTACH;FMTTYPE=image/png:https://westonmuseum.org/wp-content/uploads/2022/10/Learn-Nails-at-Home-Youtube-Thumbnail-copy.png
END:VEVENT
END:VCALENDAR