BEGIN:VCALENDAR
VERSION:2.0
PRODID:-//Weston Museum - ECPv6.15.20//NONSGML v1.0//EN
CALSCALE:GREGORIAN
METHOD:PUBLISH
X-WR-CALNAME:Weston Museum
X-ORIGINAL-URL:https://westonmuseum.org
X-WR-CALDESC:Events for Weston Museum
REFRESH-INTERVAL;VALUE=DURATION:PT1H
X-Robots-Tag:noindex
X-PUBLISHED-TTL:PT1H
BEGIN:VTIMEZONE
TZID:Europe/London
BEGIN:DAYLIGHT
TZOFFSETFROM:+0000
TZOFFSETTO:+0100
TZNAME:BST
DTSTART:20230326T010000
END:DAYLIGHT
BEGIN:STANDARD
TZOFFSETFROM:+0100
TZOFFSETTO:+0000
TZNAME:GMT
DTSTART:20231029T010000
END:STANDARD
BEGIN:DAYLIGHT
TZOFFSETFROM:+0000
TZOFFSETTO:+0100
TZNAME:BST
DTSTART:20240331T010000
END:DAYLIGHT
BEGIN:STANDARD
TZOFFSETFROM:+0100
TZOFFSETTO:+0000
TZNAME:GMT
DTSTART:20241027T010000
END:STANDARD
BEGIN:DAYLIGHT
TZOFFSETFROM:+0000
TZOFFSETTO:+0100
TZNAME:BST
DTSTART:20250330T010000
END:DAYLIGHT
BEGIN:STANDARD
TZOFFSETFROM:+0100
TZOFFSETTO:+0000
TZNAME:GMT
DTSTART:20251026T010000
END:STANDARD
END:VTIMEZONE
BEGIN:VTIMEZONE
TZID:UTC
BEGIN:STANDARD
TZOFFSETFROM:+0000
TZOFFSETTO:+0000
TZNAME:UTC
DTSTART:20230101T000000
END:STANDARD
END:VTIMEZONE
BEGIN:VEVENT
DTSTART;TZID=Europe/London:20240106T123000
DTEND;TZID=Europe/London:20240106T140000
DTSTAMP:20260419T212435
CREATED:20230906T113939Z
LAST-MODIFIED:20230922T103339Z
UID:10002175-1704544200-1704549600@westonmuseum.org
SUMMARY:The Doctor Who Scarf Project - Knitting Starter Day
DESCRIPTION:Help us make Weston-super-Mare a sea of colourful Doctor Who loveliness by learning to knit your own Doctor Who scarf and join us in knitting the longest ever community made Doctor Who scarf! \nWe’re so excited about our new exhibition – ‘ADVENTURES IN TIME AND SPACE – 60 YEARS OF DOCTOR WHO ART’\, which runs from 21 October 2023 – 27 January 2024. We just want to wrap ourselves in Doctor Who fun\, so we’ve decided to get knitting and you can join us too! \nGrab one of our knitting starter packs from the museum shop (throughout the exhibition dates) and get going with your own scarf. You can even join us on one of our special knitting starter days (24/10/23 or 06/01/24)\, where there will be a team of knitting helpers ready to get you started and show you a basic stitch. There’s no charge to join this event and no need to book\, you just need to purchase one of the starter packs and find an available helper in our Learning Space. Knitting is a great hobby for almost any age and you don’t need to know loads of complicated stitches; just one will enable you to make something to be proud of. \nEver wondered why the 4th Doctor (Tom Baker) had such a long striped scarf? – The story goes that the costume designer gave a knitter a big bag of wool and asked her to knit a scarf. He thought she would choose what she liked from the bag\, but instead she used up the whole lot and an iconic piece of Doctor Who fashion was created! Some sources say that first scarf was 20 feet long and we want to beat that by knitting our own longest ever jointly made Doctor Who scarf. We’ve already started the scarf and we will be adding to it over the whole run of the exhibition (up until January 2024). Once we’ve had some fun wrapping up various things in our awesome scarf we plan to chop it down into standard lengths and finish these off to go towards our ‘Warm Bundles Project’. We’ve been working with other community organisations to gather bundles (scarves\, gloves\, hats etc) that are given to homeless people. This means that our long scarf will go to a good cause. \nHave you got any spare wool or needles at home? If you’d like to donate them to our project to help out with making this amazing creation then we’d be very grateful for them. Just email the museum FAO Katherine Bell (Learning and Events Officer). \nIf you’d like to know more information or arrange dropping off some wool or needles\, just email museum@wsm-tc.gov.uk
URL:https://westonmuseum.org/event/the-doctor-who-scarf-project/2024-01-06/
LOCATION:Weston Museum\, Burlington Street\, Weston-super-Mare\, Somerset\, BS23 1PR\, United Kingdom
CATEGORIES:Displays and Exhibitions,Educational,Family,Free,Museum Events,Special Events
ATTACH;FMTTYPE=image/jpeg:https://westonmuseum.org/wp-content/uploads/2023/08/tues.jpg
ORGANIZER;CN="Weston Museum":MAILTO:museum@wsm-tc.gov.uk
END:VEVENT
BEGIN:VEVENT
DTSTART;TZID=Europe/London:20240109T100000
DTEND;TZID=Europe/London:20240113T160000
DTSTAMP:20260419T212435
CREATED:20231018T134329Z
LAST-MODIFIED:20231018T134329Z
UID:10002236-1704794400-1705161600@westonmuseum.org
SUMMARY:Community Gallery Exhibition: The High Street Heritage Action Zone
DESCRIPTION:An exhibition to celebrate the community engagement work that has been undertaken as part of Weston’s High Street Heritage Action Zone. (HSHAZ) opens at Weston Museum on Saturday 4th November 2023 and finishes on Saturday 2nd March 2024. The exhibition celebrates the work that the Museum has carried out to deliver the High Street Heritage Action Zone engagement programme. The High Street Heritage Action Zone finishes in March 2024 and this exhibition showcases the work and legacy arising from the project. \nBackground to the HSHAZ:\nThe HSHAZ is a four-year programme of restoration work on buildings in Weston plus community engagement. It ends March 2024.\nRestoration work has been carried out on Fork n Ale pub\, 4\,6\,8 Walliscote Road\, and The Kendall’s building (16-28 High Street and 40-42 Regent Street).\nThis equates to over £800\,00 worth of investment by Historic England.\nThe £55\,000 engagement programme funded by Historic England included: \n• A schools engagement project run by Weston Museum\n• Monthly talks organised by Weston-super-Mare Civic Society\n• Memories Shared: A reminiscence project in Care Homes managed by NSC Library team\n• Recruiting\, training and managing ‘Culture and Heritage makers’ volunteers managed by Super Culture.\n• Development of Heritage walks in Weston- published on Super Weston website\n• Training for Retailers in marketing their shops\n• Co-ordination of Heritage Open Days Sept 2018 to Sept 2023\n• And two exhibitions- one in The museum Nov 2023-Feb 2024 and one in Sovereign centre 17 Jan- 11 Feb 2024
URL:https://westonmuseum.org/event/community-gallery-exhibition-the-high-street-heritage-action-zone-11/
LOCATION:Weston Museum\, Burlington Street\, Weston-super-Mare\, Somerset\, BS23 1PR\, United Kingdom
CATEGORIES:Adult,Displays and Exhibitions,Educational,Free,Museum Events,Special Events
ATTACH;FMTTYPE=image/jpeg:https://westonmuseum.org/wp-content/uploads/2023/10/community-gallery-exhibition.jpg
ORGANIZER;CN="Weston Museum":MAILTO:museum@wsm-tc.gov.uk
END:VEVENT
BEGIN:VEVENT
DTSTART;TZID=UTC:20240110T103000
DTEND;TZID=UTC:20240110T130000
DTSTAMP:20260419T212435
CREATED:20231010T111341Z
LAST-MODIFIED:20231010T111341Z
UID:10002199-1704882600-1704891600@westonmuseum.org
SUMMARY:Amazing Artefacts - Home Educators Monthly Sessions
DESCRIPTION:  \nWelcome to the Winter Season of Amazing Artefacts – Home Educators Monthly Sessions!\nEach month\, we will take part in a variety of different hands on activities inspired by an item from the collections. Each season\, we will explore a new theme\, which for the Winter Season will be ‘Transport’. \nWinter season dates and times are as follows:\nWednesday 13th Dec (10:30-11:30 Juniors\, 12-1 Seniors)\nWednesday 10th Jan (10:30-11:30 Juniors\, 12-1 Seniors)\nWednesday 7th Feb (10:30-11:30 Juniors\, 12-1 Seniors) (please note that February’s date is a slight change from the usual 2nd Wednesday and will be on the 1st Wednesday of the month instead) \nSessions are designed to be active and accessible for a mix of ages and abilities with 2 separate sessions for younger or older children. The morning session will be aimed at slightly younger children aged approximately 5-8\, nicknamed our Juniors\, and the afternoon session will be aimed at the slightly older children aged approximately 9+\, nicknamed our Seniors. If you would like to attend as a family group with mixed ages\, then just pick whichever session you feel would be most suitable for the group as a whole.\nIf you would like to let us know about any specific considerations for your children then we would welcome this\, just get in touch. \nTickets need to be purchased for each child attending\, but grown ups do not need to purchase a separate ticket. It usually works best for the younger or less confident children if grown ups stay and join in with activities. Whereas for older or more confident children it is usually fine for grown ups to not stay in the session\, although they will need to stay within the museum building whilst the session is taking place. Tickets cost £17.50 per child for the 3 month seasonal block and can be booked via Ticketsource or by popping into or phoning the museum directly.\nAttendees will be encouraged to continue their learning at home between sessions and the year will finish with a display of the children’s work from all of the sessions within the museum. \nRusty Club (YAC) Membership – Please note that we occasionally do the same crafts or activities in Rusty Club sessions as we do in Home Educator sessions\, so if you decide to join in with both programmes there may be some sessions with duplicated topics.
URL:https://westonmuseum.org/event/amazing-artefacts-home-educators-monthly-sessions-4/2024-01-10/
LOCATION:Weston Museum\, Burlington Street\, Weston-super-Mare\, Somerset\, BS23 1PR\, United Kingdom
CATEGORIES:Educational,Family,Museum Events,Regular Activities
ATTACH;FMTTYPE=image/jpeg:https://westonmuseum.org/wp-content/uploads/2023/10/Amazing-Artefacts-Home-Educators-5.jpg
ORGANIZER;CN="Weston Museum":MAILTO:museum@wsm-tc.gov.uk
END:VEVENT
BEGIN:VEVENT
DTSTART;TZID=Europe/London:20240111T143000
DTEND;TZID=Europe/London:20240111T153000
DTSTAMP:20260419T212435
CREATED:20240104T135642Z
LAST-MODIFIED:20240104T135642Z
UID:10002341-1704983400-1704987000@westonmuseum.org
SUMMARY:Heritage Talk and Video - A History of Crime and Punishment in Weston and Surrounding Area
DESCRIPTION:This free session looks at the history of crime and punishment in Weston-super-Mare and the surrounding area\, through video and a PowerPoint illustrated talk.  Find out more about a highwayman\, a bear attack\, murder and a witchcraft trial!  Hear about the history of Shepton Mallet prison and much more.
URL:https://westonmuseum.org/event/heritage-talk-and-video-a-history-of-crime-and-punishment-in-weston-and-surrounding-area/
LOCATION:Weston Museum\, Burlington Street\, Weston-super-Mare\, Somerset\, BS23 1PR\, United Kingdom
CATEGORIES:Adult,Educational,Free,Museum Events,Regular Activities,Talks & tours
ATTACH;FMTTYPE=image/png:https://westonmuseum.org/wp-content/uploads/2023/07/Heritage-Talks.png
ORGANIZER;CN="Weston Museum":MAILTO:museum@wsm-tc.gov.uk
END:VEVENT
BEGIN:VEVENT
DTSTART;TZID=Europe/London:20240116T100000
DTEND;TZID=Europe/London:20240120T160000
DTSTAMP:20260419T212435
CREATED:20231018T134402Z
LAST-MODIFIED:20231018T134402Z
UID:10002237-1705399200-1705766400@westonmuseum.org
SUMMARY:Community Gallery Exhibition: The High Street Heritage Action Zone
DESCRIPTION:An exhibition to celebrate the community engagement work that has been undertaken as part of Weston’s High Street Heritage Action Zone. (HSHAZ) opens at Weston Museum on Saturday 4th November 2023 and finishes on Saturday 2nd March 2024. The exhibition celebrates the work that the Museum has carried out to deliver the High Street Heritage Action Zone engagement programme. The High Street Heritage Action Zone finishes in March 2024 and this exhibition showcases the work and legacy arising from the project. \nBackground to the HSHAZ:\nThe HSHAZ is a four-year programme of restoration work on buildings in Weston plus community engagement. It ends March 2024.\nRestoration work has been carried out on Fork n Ale pub\, 4\,6\,8 Walliscote Road\, and The Kendall’s building (16-28 High Street and 40-42 Regent Street).\nThis equates to over £800\,00 worth of investment by Historic England.\nThe £55\,000 engagement programme funded by Historic England included: \n• A schools engagement project run by Weston Museum\n• Monthly talks organised by Weston-super-Mare Civic Society\n• Memories Shared: A reminiscence project in Care Homes managed by NSC Library team\n• Recruiting\, training and managing ‘Culture and Heritage makers’ volunteers managed by Super Culture.\n• Development of Heritage walks in Weston- published on Super Weston website\n• Training for Retailers in marketing their shops\n• Co-ordination of Heritage Open Days Sept 2018 to Sept 2023\n• And two exhibitions- one in The museum Nov 2023-Feb 2024 and one in Sovereign centre 17 Jan- 11 Feb 2024
URL:https://westonmuseum.org/event/community-gallery-exhibition-the-high-street-heritage-action-zone-12/
LOCATION:Weston Museum\, Burlington Street\, Weston-super-Mare\, Somerset\, BS23 1PR\, United Kingdom
CATEGORIES:Adult,Displays and Exhibitions,Educational,Free,Museum Events,Special Events
ATTACH;FMTTYPE=image/jpeg:https://westonmuseum.org/wp-content/uploads/2023/10/community-gallery-exhibition.jpg
ORGANIZER;CN="Weston Museum":MAILTO:museum@wsm-tc.gov.uk
END:VEVENT
BEGIN:VEVENT
DTSTART;TZID=Europe/London:20240117T193000
DTEND;TZID=Europe/London:20240117T220000
DTSTAMP:20260419T212435
CREATED:20231219T140606Z
LAST-MODIFIED:20240112T082033Z
UID:10002260-1705519800-1705528800@westonmuseum.org
SUMMARY:SOLD OUT Pub Quiz
DESCRIPTION:PLEASE NOTE THIS EVENT IS SOLD OUT\n🎉 Join us for our Monthly Pub Quiz! 🎉 \nLooking for a fun-filled evening of trivia\, laughter\, and local history? Look no further! Our monthly pub quiz is back\, and we can’t wait to challenge your wits and tickle your funny bone. \n📅 Date: Wednesday 17th January 2024\n⌚ Time: Doors open at 19:00 for a 19:30 start\n📍 Location: Weston Museum \n🧠 Test your knowledge: Gather your friends\, family\, or colleagues and form a dream team of up to five members. Together\, you’ll delve into a range of intriguing questions covering various topics\, including your community’s fascinating history. Sharpen your pencils and get ready to impress with your local expertise! \n😂 Laughs guaranteed: Our pub quiz isn’t just about flexing your grey matter; it’s also a night of laughter and good times. Our talented quizmaster will keep you entertained with their witty banter and hilarious trivia challenges. \n🎟️ Prebook your tables now: To ensure you secure a spot\, we highly recommend pre-booking your tables. Don’t miss out on the chance to be part of the ultimate pub quiz experience! \n💰 Cost: Participation is only £5.00 per team\, making it an affordable and fantastic way to spend an evening with your friends. Split the cost and have a blast without breaking the bank! \nJoin us for our monthly pub quiz and let the games begin! \nTicket Link: \nhttps://www.ticketsource.co.uk/westonmuseum/t-earalpg
URL:https://westonmuseum.org/event/pub-quiz-170124/
LOCATION:Weston Museum\, Burlington Street\, Weston-super-Mare\, Somerset\, BS23 1PR\, United Kingdom
CATEGORIES:Adult,Educational,Family,Museum Events,Regular Activities,Young person (ages 16-24)
ATTACH;FMTTYPE=image/png:https://westonmuseum.org/wp-content/uploads/2023/12/Pub-Quiz-REGULAR-WEBSITE-1.png
ORGANIZER;CN="Weston Museum":MAILTO:museum@wsm-tc.gov.uk
END:VEVENT
BEGIN:VEVENT
DTSTART;TZID=Europe/London:20240123T100000
DTEND;TZID=Europe/London:20240127T160000
DTSTAMP:20260419T212435
CREATED:20231018T134432Z
LAST-MODIFIED:20231018T134432Z
UID:10002238-1706004000-1706371200@westonmuseum.org
SUMMARY:Community Gallery Exhibition: The High Street Heritage Action Zone
DESCRIPTION:An exhibition to celebrate the community engagement work that has been undertaken as part of Weston’s High Street Heritage Action Zone. (HSHAZ) opens at Weston Museum on Saturday 4th November 2023 and finishes on Saturday 2nd March 2024. The exhibition celebrates the work that the Museum has carried out to deliver the High Street Heritage Action Zone engagement programme. The High Street Heritage Action Zone finishes in March 2024 and this exhibition showcases the work and legacy arising from the project. \nBackground to the HSHAZ:\nThe HSHAZ is a four-year programme of restoration work on buildings in Weston plus community engagement. It ends March 2024.\nRestoration work has been carried out on Fork n Ale pub\, 4\,6\,8 Walliscote Road\, and The Kendall’s building (16-28 High Street and 40-42 Regent Street).\nThis equates to over £800\,00 worth of investment by Historic England.\nThe £55\,000 engagement programme funded by Historic England included: \n• A schools engagement project run by Weston Museum\n• Monthly talks organised by Weston-super-Mare Civic Society\n• Memories Shared: A reminiscence project in Care Homes managed by NSC Library team\n• Recruiting\, training and managing ‘Culture and Heritage makers’ volunteers managed by Super Culture.\n• Development of Heritage walks in Weston- published on Super Weston website\n• Training for Retailers in marketing their shops\n• Co-ordination of Heritage Open Days Sept 2018 to Sept 2023\n• And two exhibitions- one in The museum Nov 2023-Feb 2024 and one in Sovereign centre 17 Jan- 11 Feb 2024
URL:https://westonmuseum.org/event/community-gallery-exhibition-the-high-street-heritage-action-zone-13/
LOCATION:Weston Museum\, Burlington Street\, Weston-super-Mare\, Somerset\, BS23 1PR\, United Kingdom
CATEGORIES:Adult,Displays and Exhibitions,Educational,Free,Museum Events,Special Events
ATTACH;FMTTYPE=image/jpeg:https://westonmuseum.org/wp-content/uploads/2023/10/community-gallery-exhibition.jpg
ORGANIZER;CN="Weston Museum":MAILTO:museum@wsm-tc.gov.uk
END:VEVENT
BEGIN:VEVENT
DTSTART;TZID=Europe/London:20240125T143000
DTEND;TZID=Europe/London:20240125T153000
DTSTAMP:20260419T212435
CREATED:20240122T091452Z
LAST-MODIFIED:20240122T091452Z
UID:10002935-1706193000-1706196600@westonmuseum.org
SUMMARY:Heritage Talk - History of Crime and Punishment in Weston-super-Mare and Area
DESCRIPTION:This FREE illustrated heritage talk takes a look at historic crime and punishment in the Weston-super-Mare area.  Come along and hear about a dangerous highwayman\, gruesome murders and a witchcraft trial!  Watch our video with a former governor of Shepton Mallet Jail!
URL:https://westonmuseum.org/event/heritage-talk-history-of-crime-and-punishment-in-weston-super-mare-and-area/
LOCATION:Weston Museum\, Burlington Street\, Weston-super-Mare\, Somerset\, BS23 1PR\, United Kingdom
CATEGORIES:Adult,Educational,Free,Museum Events,Talks & tours
ATTACH;FMTTYPE=image/png:https://westonmuseum.org/wp-content/uploads/2023/07/Heritage-Talks.png
ORGANIZER;CN="Weston Museum":MAILTO:museum@wsm-tc.gov.uk
END:VEVENT
BEGIN:VEVENT
DTSTART;TZID=Europe/London:20240130T100000
DTEND;TZID=Europe/London:20240203T160000
DTSTAMP:20260419T212435
CREATED:20231018T134503Z
LAST-MODIFIED:20231018T134503Z
UID:10002239-1706608800-1706976000@westonmuseum.org
SUMMARY:Community Gallery Exhibition: The High Street Heritage Action Zone
DESCRIPTION:An exhibition to celebrate the community engagement work that has been undertaken as part of Weston’s High Street Heritage Action Zone. (HSHAZ) opens at Weston Museum on Saturday 4th November 2023 and finishes on Saturday 2nd March 2024. The exhibition celebrates the work that the Museum has carried out to deliver the High Street Heritage Action Zone engagement programme. The High Street Heritage Action Zone finishes in March 2024 and this exhibition showcases the work and legacy arising from the project. \nBackground to the HSHAZ:\nThe HSHAZ is a four-year programme of restoration work on buildings in Weston plus community engagement. It ends March 2024.\nRestoration work has been carried out on Fork n Ale pub\, 4\,6\,8 Walliscote Road\, and The Kendall’s building (16-28 High Street and 40-42 Regent Street).\nThis equates to over £800\,00 worth of investment by Historic England.\nThe £55\,000 engagement programme funded by Historic England included: \n• A schools engagement project run by Weston Museum\n• Monthly talks organised by Weston-super-Mare Civic Society\n• Memories Shared: A reminiscence project in Care Homes managed by NSC Library team\n• Recruiting\, training and managing ‘Culture and Heritage makers’ volunteers managed by Super Culture.\n• Development of Heritage walks in Weston- published on Super Weston website\n• Training for Retailers in marketing their shops\n• Co-ordination of Heritage Open Days Sept 2018 to Sept 2023\n• And two exhibitions- one in The museum Nov 2023-Feb 2024 and one in Sovereign centre 17 Jan- 11 Feb 2024
URL:https://westonmuseum.org/event/community-gallery-exhibition-the-high-street-heritage-action-zone-14/
LOCATION:Weston Museum\, Burlington Street\, Weston-super-Mare\, Somerset\, BS23 1PR\, United Kingdom
CATEGORIES:Adult,Displays and Exhibitions,Educational,Free,Museum Events,Special Events
ATTACH;FMTTYPE=image/jpeg:https://westonmuseum.org/wp-content/uploads/2023/10/community-gallery-exhibition.jpg
ORGANIZER;CN="Weston Museum":MAILTO:museum@wsm-tc.gov.uk
END:VEVENT
END:VCALENDAR