BEGIN:VCALENDAR
VERSION:2.0
PRODID:-//Weston Museum - ECPv6.15.20//NONSGML v1.0//EN
CALSCALE:GREGORIAN
METHOD:PUBLISH
X-ORIGINAL-URL:https://westonmuseum.org
X-WR-CALDESC:Events for Weston Museum
REFRESH-INTERVAL;VALUE=DURATION:PT1H
X-Robots-Tag:noindex
X-PUBLISHED-TTL:PT1H
BEGIN:VTIMEZONE
TZID:UTC
BEGIN:STANDARD
TZOFFSETFROM:+0000
TZOFFSETTO:+0000
TZNAME:UTC
DTSTART:20220101T000000
END:STANDARD
END:VTIMEZONE
BEGIN:VTIMEZONE
TZID:Europe/London
BEGIN:DAYLIGHT
TZOFFSETFROM:+0000
TZOFFSETTO:+0100
TZNAME:BST
DTSTART:20220327T010000
END:DAYLIGHT
BEGIN:STANDARD
TZOFFSETFROM:+0100
TZOFFSETTO:+0000
TZNAME:GMT
DTSTART:20221030T010000
END:STANDARD
BEGIN:DAYLIGHT
TZOFFSETFROM:+0000
TZOFFSETTO:+0100
TZNAME:BST
DTSTART:20230326T010000
END:DAYLIGHT
BEGIN:STANDARD
TZOFFSETFROM:+0100
TZOFFSETTO:+0000
TZNAME:GMT
DTSTART:20231029T010000
END:STANDARD
BEGIN:DAYLIGHT
TZOFFSETFROM:+0000
TZOFFSETTO:+0100
TZNAME:BST
DTSTART:20240331T010000
END:DAYLIGHT
BEGIN:STANDARD
TZOFFSETFROM:+0100
TZOFFSETTO:+0000
TZNAME:GMT
DTSTART:20241027T010000
END:STANDARD
END:VTIMEZONE
BEGIN:VEVENT
DTSTART;TZID=UTC:20230530T100000
DTEND;TZID=UTC:20230603T160000
DTSTAMP:20260422T124450
CREATED:20230118T140102Z
LAST-MODIFIED:20230118T141741Z
UID:10001296-1685440800-1685808000@westonmuseum.org
SUMMARY:The first ever exhibition dedicated to Quentin Blake’s illustrations for poetry
DESCRIPTION:Quentin Blake: Illustrating Verse\nThe first ever exhibition dedicated to Quentin Blake’s illustrations for poetry – on tour across the UKAt Weston Museum from 4 March – 3 June 2023. Free Entry. \n“The choice of moments\, and a sense of discretion about what to draw and what not to draw\, is particularly important in the business of illustrating poetry.” Quentin Blake \nQuentin Blake has been writing and illustrating poetry throughout his 60-year career. Many of his own books feature rhymes and songs\, and he has collaborated with writers including Michael Rosen and Roald Dahl. \nAs well as artwork for popular nursery rhymes like The Owl and the Pussycat and classic stories including Alice in Wonderland\, the exhibition features previously unseen works from Blake’s archive\, such as surreal illustrations for Sylvia Plath’s The Bed Book and mischievous cats for T. S. Elliot’s The Song of the Jellicles. \nSketchbooks and rough drawings give a rare insight into Blake’s writing and book design process\, as well as the creation of characters for Roald Dahl’s novel Charlie and the Chocolate Factory and his own Mr Magnolia. \nThis exhibition features original illustrations courtesy of Quentin Blake.\nQuentin Blake: Illustrating Verse is a touring exhibition from Quentin Blake Centre for Illustration. \nExhibition information:\nDates: 4 March – 3 June 2023 We are closed on Sundays and Mondays
URL:https://westonmuseum.org/event/the-first-ever-exhibition-dedicated-to-quentin-blakes-illustrations-for-poetry-3/
LOCATION:Somerset
CATEGORIES:Displays and Exhibitions,Educational,Family,Free,Special Events
ATTACH;FMTTYPE=image/png:https://westonmuseum.org/wp-content/uploads/2023/01/Untitled-design.png
END:VEVENT
BEGIN:VEVENT
DTSTART;TZID=UTC:20230531T100000
DTEND;TZID=UTC:20230531T160000
DTSTAMP:20260422T124450
CREATED:20221021T150419Z
LAST-MODIFIED:20221021T150419Z
UID:10000998-1685527200-1685548800@westonmuseum.org
SUMMARY:Wildlife Photographer of the Year world-renowned exhibition
DESCRIPTION:Stunning images unveiled as Wildlife Photographer of the Year arrives in Weston Museum \nExhibition information: \nDates: 26 November to 8 February \nThe world-renowned exhibition\, on loan from the Natural History Museum in London\, will open at Weston Museum on 26 November 2022\, featuring exceptional images which capture fascinating animal behaviour\, spectacular species and the breathtaking diversity of the natural world. Using photography’s unique emotive power to engage and inspire audiences\, the images shine a light on stories and species around the world and encourage a future of advocating for the planet. \nWildlife Photographer of the Year is the most prestigious photography event of its kind\, providing a global platform that showcases some of the best photography talent from around the world for over 55 years. Launching in 1965\, today the competition receives entries from over 90 countries all over the world\, highlighting its enduring appeal. This year’s award-winning images will embark on an international tour that will allow them to be seen by well over a million people.   \nThe Wildlife Photographer of the Year 59 competition opens for entries on 17 October and closes on 8 December 2022. \nThe judges of the fifty-eighth Wildlife Photographer of the Year competition had an extremely difficult task. Every entry was judged anonymously on its creativity\, originality\, and technical excellence by an international panel of industry experts.  \nThe winning images\, including the prestigious Grand Title Award winners\, were announced on 11 October 2022 during a glittering awards show hosted by wildlife presenter and conservationist Chris Packham.  \nDr Doug Gurr\, Director of the Natural History Museum says\, ‘Captured by some of the best photography talent from around the world\, the 100 photographs encourage curiosity\, connection and wonder. These inspiring images convey human impact on the natural world in a way that words cannot – from the urgency of declining biodiversity to the inspiring bounce back of a protected species.’
URL:https://westonmuseum.org/event/wildlife-photographer-of-the-year-world-renowned-exhibition/2023-05-31/
LOCATION:Somerset
CATEGORIES:Displays and Exhibitions,Educational,Family,Free,Special Events
ATTACH;FMTTYPE=image/png:https://westonmuseum.org/wp-content/uploads/2022/10/Learn-Nails-at-Home-Youtube-Thumbnail-copy.png
END:VEVENT
BEGIN:VEVENT
DTSTART;TZID=Europe/London:20230531T103000
DTEND;TZID=Europe/London:20230531T134500
DTSTAMP:20260422T124450
CREATED:20230509T113517Z
LAST-MODIFIED:20230509T113517Z
UID:10001287-1685529000-1685540700@westonmuseum.org
SUMMARY:Sea Creature Story and Craft
DESCRIPTION:  \nExplore and Play in our Sea Creature Story and Craft sessions for Young Children. Join in with some sensory storytelling then explore our mini rock pool\, dig for beach finds and make some scrappy sea creature craft. You can learn about the sea creatures that live off the British Coastline through hands on activities and crafts to make and take home. \nSession times: \n10:30-11:15\, 11:30-12:15\, 1-1:45 \nThese sessions are aimed at young children approximately 2-7 and their grown-ups\, but are accessible to all ages and abilities with adult support. Accompanying adults do not need to purchase a separate ticket. \nTickets for sessions in the Learning Space cost £6 per child and can be purchased via Ticketsource or by calling or popping in to the museum. Pre-booking recommended. \n 
URL:https://westonmuseum.org/event/sea-creature-story-and-craft/
LOCATION:Weston Museum\, Burlington Street\, Weston-super-Mare\, Somerset\, BS23 1PR\, United Kingdom
CATEGORIES:Educational,Family,Museum Events,Special Events
ATTACH;FMTTYPE=image/jpeg:https://westonmuseum.org/wp-content/uploads/2023/05/Sea-Creatures-landscape.jpg
ORGANIZER;CN="Weston Museum":MAILTO:museum@wsm-tc.gov.uk
END:VEVENT
END:VCALENDAR