BEGIN:VCALENDAR
VERSION:2.0
PRODID:-//Weston Museum - ECPv6.15.20//NONSGML v1.0//EN
CALSCALE:GREGORIAN
METHOD:PUBLISH
X-WR-CALNAME:Weston Museum
X-ORIGINAL-URL:https://westonmuseum.org
X-WR-CALDESC:Events for Weston Museum
REFRESH-INTERVAL;VALUE=DURATION:PT1H
X-Robots-Tag:noindex
X-PUBLISHED-TTL:PT1H
BEGIN:VTIMEZONE
TZID:UTC
BEGIN:STANDARD
TZOFFSETFROM:+0000
TZOFFSETTO:+0000
TZNAME:UTC
DTSTART:20220101T000000
END:STANDARD
END:VTIMEZONE
BEGIN:VEVENT
DTSTART;TZID=UTC:20230614T100000
DTEND;TZID=UTC:20230614T160000
DTSTAMP:20260422T114719
CREATED:20221021T150419Z
LAST-MODIFIED:20221021T150419Z
UID:10001012-1686736800-1686758400@westonmuseum.org
SUMMARY:Wildlife Photographer of the Year world-renowned exhibition
DESCRIPTION:Stunning images unveiled as Wildlife Photographer of the Year arrives in Weston Museum \nExhibition information: \nDates: 26 November to 8 February \nThe world-renowned exhibition\, on loan from the Natural History Museum in London\, will open at Weston Museum on 26 November 2022\, featuring exceptional images which capture fascinating animal behaviour\, spectacular species and the breathtaking diversity of the natural world. Using photography’s unique emotive power to engage and inspire audiences\, the images shine a light on stories and species around the world and encourage a future of advocating for the planet. \nWildlife Photographer of the Year is the most prestigious photography event of its kind\, providing a global platform that showcases some of the best photography talent from around the world for over 55 years. Launching in 1965\, today the competition receives entries from over 90 countries all over the world\, highlighting its enduring appeal. This year’s award-winning images will embark on an international tour that will allow them to be seen by well over a million people.   \nThe Wildlife Photographer of the Year 59 competition opens for entries on 17 October and closes on 8 December 2022. \nThe judges of the fifty-eighth Wildlife Photographer of the Year competition had an extremely difficult task. Every entry was judged anonymously on its creativity\, originality\, and technical excellence by an international panel of industry experts.  \nThe winning images\, including the prestigious Grand Title Award winners\, were announced on 11 October 2022 during a glittering awards show hosted by wildlife presenter and conservationist Chris Packham.  \nDr Doug Gurr\, Director of the Natural History Museum says\, ‘Captured by some of the best photography talent from around the world\, the 100 photographs encourage curiosity\, connection and wonder. These inspiring images convey human impact on the natural world in a way that words cannot – from the urgency of declining biodiversity to the inspiring bounce back of a protected species.’
URL:https://westonmuseum.org/event/wildlife-photographer-of-the-year-world-renowned-exhibition/2023-06-14/
LOCATION:Somerset
CATEGORIES:Displays and Exhibitions,Educational,Family,Free,Special Events
ATTACH;FMTTYPE=image/png:https://westonmuseum.org/wp-content/uploads/2022/10/Learn-Nails-at-Home-Youtube-Thumbnail-copy.png
END:VEVENT
BEGIN:VEVENT
DTSTART;TZID=UTC:20230614T103000
DTEND;TZID=UTC:20230614T130000
DTSTAMP:20260422T114719
CREATED:20221025T100337Z
LAST-MODIFIED:20230415T091356Z
UID:10001056-1686738600-1686747600@westonmuseum.org
SUMMARY:Amazing Artefacts - Home Educators Monthly Sessions
DESCRIPTION:  \nWelcome to the Summer Season of Amazing Artefacts – Home Educators Monthly Sessions!\nEach month\, we will take part in a variety of different hands on activities inspired by an item from the collections. Each season\, we will explore a new theme\, which for the Summer Season will be ‘Ancient Words’. \nSummer season dates and times are as follows:\nWednesday 14th June (10:30-11:30 Juniors\, 12-1 Seniors)\nWednesday 12th July (10:30-11:30 Juniors\, 12-1 Seniors)\nWednesday 9th Aug (10:30-11:30 Juniors\, 12-1 Seniors) \nSessions are designed to be active and accessible for a mix of ages and abilities with 2 separate sessions for younger or older children. The morning session will be aimed at slightly younger children aged approximately 5-8\, nicknamed our Juniors\, and the afternoon session will be aimed at the slightly older children aged approximately 9+\, nicknamed our Seniors. If you would like to attend as a family group with mixed ages\, then just pick whichever session you feel would be most suitable for the group as a whole.\nIf you would like to let us know about any specific considerations for your children then we would welcome this\, just get in touch. \nTickets need to be purchased for each child attending\, but grown ups do not need to purchase a separate ticket. It usually works best for the younger or less confident children if grown ups stay and join in with activities. Whereas for older or more confident children it is usually fine for grown ups to not stay in the session\, although they will need to stay within the museum building whilst the session is taking place. Tickets cost £17.50 per child for the 3 month seasonal block and can be booked via Ticketsource or by popping into or phoning the museum directly.\nAttendees will be encouraged to continue their learning at home between sessions and the year will finish with a display of the children’s work from all of the sessions within the museum. \nRusty Club (YAC) Membership – Please note that we occasionally do the same crafts or activities in Rusty Club sessions as we do in Home Educator sessions\, so if you decide to join in with both programmes there may be some sessions with duplicated topics.
URL:https://westonmuseum.org/event/amazing-artefacts-home-educators-monthly-sessions-2/2023-06-14/
LOCATION:Weston Museum\, Burlington Street\, Weston-super-Mare\, Somerset\, BS23 1PR\, United Kingdom
CATEGORIES:Educational,Family,Museum Events,Regular Activities
ATTACH;FMTTYPE=image/jpeg:https://westonmuseum.org/wp-content/uploads/2022/10/Amazing-Artefacts-Home-Educators-3.jpg
ORGANIZER;CN="Weston Museum":MAILTO:museum@wsm-tc.gov.uk
END:VEVENT
END:VCALENDAR