BEGIN:VCALENDAR
VERSION:2.0
PRODID:-//Weston Museum - ECPv6.15.20//NONSGML v1.0//EN
CALSCALE:GREGORIAN
METHOD:PUBLISH
X-WR-CALNAME:Weston Museum
X-ORIGINAL-URL:https://westonmuseum.org
X-WR-CALDESC:Events for Weston Museum
REFRESH-INTERVAL;VALUE=DURATION:PT1H
X-Robots-Tag:noindex
X-PUBLISHED-TTL:PT1H
BEGIN:VTIMEZONE
TZID:Europe/London
BEGIN:DAYLIGHT
TZOFFSETFROM:+0000
TZOFFSETTO:+0100
TZNAME:BST
DTSTART:20220327T010000
END:DAYLIGHT
BEGIN:STANDARD
TZOFFSETFROM:+0100
TZOFFSETTO:+0000
TZNAME:GMT
DTSTART:20221030T010000
END:STANDARD
BEGIN:DAYLIGHT
TZOFFSETFROM:+0000
TZOFFSETTO:+0100
TZNAME:BST
DTSTART:20230326T010000
END:DAYLIGHT
BEGIN:STANDARD
TZOFFSETFROM:+0100
TZOFFSETTO:+0000
TZNAME:GMT
DTSTART:20231029T010000
END:STANDARD
BEGIN:DAYLIGHT
TZOFFSETFROM:+0000
TZOFFSETTO:+0100
TZNAME:BST
DTSTART:20240331T010000
END:DAYLIGHT
BEGIN:STANDARD
TZOFFSETFROM:+0100
TZOFFSETTO:+0000
TZNAME:GMT
DTSTART:20241027T010000
END:STANDARD
END:VTIMEZONE
BEGIN:VTIMEZONE
TZID:UTC
BEGIN:STANDARD
TZOFFSETFROM:+0000
TZOFFSETTO:+0000
TZNAME:UTC
DTSTART:20220101T000000
END:STANDARD
END:VTIMEZONE
BEGIN:VEVENT
DTSTART;TZID=Europe/London:20230620T100000
DTEND;TZID=Europe/London:20230624T160000
DTSTAMP:20260424T133252
CREATED:20230531T090637Z
LAST-MODIFIED:20230531T095352Z
UID:10001282-1687255200-1687622400@westonmuseum.org
SUMMARY:Myths & Monsters Exhibition
DESCRIPTION:Open daily Tues to Sat\, 20 June – 7 October 2023 \nExplore the wild worlds of Myths and Monsters in a new exhibition featuring artwork from some of our best loved children’s stories.  \nGet ready to meet a motley crew of fantastic beasts\, from the Gruffalo to the Iron Man\, from fearsome dragons to monsters of the deep\, and even monsters in underpants! \nMonsters have been around since the earliest myths and legends\, keeping us terrified and captivated for millennia. The imaginations of some of the world’s most celebrated illustrators and artists bring them to life. \nSee over 70 artworks by 17 of our most-celebrated children’s book illustrators. Star contributors include:  \nAxel Scheffler – The Gruffalo and other Julia Donaldson books \nChris Mould – The Iron Man \nJim Kay – A Monster Calls \nKristina Stephenson – The Museum of Marvellous Things\, Sir Charlie Stinky Socks \nLydia Monks – What the Ladybird Heard\, Sugarlump and the Unicorn and other Julia Donaldson books \nChris Riddell – The Cloud Horse Chronicles \nVictoria Topping – Mythologica: An encyclopedia of gods\, monsters and mortals from ancient Greece \nThis family-friendly exhibition has been created in collaboration with Events of Wonder.
URL:https://westonmuseum.org/event/myths-monsters-exhibition/
LOCATION:Weston Museum\, Burlington Street\, Weston-super-Mare\, Somerset\, BS23 1PR\, United Kingdom
CATEGORIES:Adult,Displays and Exhibitions,Educational,Family,Free,Young person (ages 16-24)
ATTACH;FMTTYPE=image/png:https://westonmuseum.org/wp-content/uploads/2023/05/Screenshot-2023-05-31-at-09.50.03.png
END:VEVENT
BEGIN:VEVENT
DTSTART;TZID=UTC:20230621T100000
DTEND;TZID=UTC:20230621T160000
DTSTAMP:20260424T133252
CREATED:20221021T150419Z
LAST-MODIFIED:20221021T150419Z
UID:10001019-1687341600-1687363200@westonmuseum.org
SUMMARY:Wildlife Photographer of the Year world-renowned exhibition
DESCRIPTION:Stunning images unveiled as Wildlife Photographer of the Year arrives in Weston Museum \nExhibition information: \nDates: 26 November to 8 February \nThe world-renowned exhibition\, on loan from the Natural History Museum in London\, will open at Weston Museum on 26 November 2022\, featuring exceptional images which capture fascinating animal behaviour\, spectacular species and the breathtaking diversity of the natural world. Using photography’s unique emotive power to engage and inspire audiences\, the images shine a light on stories and species around the world and encourage a future of advocating for the planet. \nWildlife Photographer of the Year is the most prestigious photography event of its kind\, providing a global platform that showcases some of the best photography talent from around the world for over 55 years. Launching in 1965\, today the competition receives entries from over 90 countries all over the world\, highlighting its enduring appeal. This year’s award-winning images will embark on an international tour that will allow them to be seen by well over a million people.   \nThe Wildlife Photographer of the Year 59 competition opens for entries on 17 October and closes on 8 December 2022. \nThe judges of the fifty-eighth Wildlife Photographer of the Year competition had an extremely difficult task. Every entry was judged anonymously on its creativity\, originality\, and technical excellence by an international panel of industry experts.  \nThe winning images\, including the prestigious Grand Title Award winners\, were announced on 11 October 2022 during a glittering awards show hosted by wildlife presenter and conservationist Chris Packham.  \nDr Doug Gurr\, Director of the Natural History Museum says\, ‘Captured by some of the best photography talent from around the world\, the 100 photographs encourage curiosity\, connection and wonder. These inspiring images convey human impact on the natural world in a way that words cannot – from the urgency of declining biodiversity to the inspiring bounce back of a protected species.’
URL:https://westonmuseum.org/event/wildlife-photographer-of-the-year-world-renowned-exhibition/2023-06-21/
LOCATION:Somerset
CATEGORIES:Displays and Exhibitions,Educational,Family,Free,Special Events
ATTACH;FMTTYPE=image/png:https://westonmuseum.org/wp-content/uploads/2022/10/Learn-Nails-at-Home-Youtube-Thumbnail-copy.png
END:VEVENT
END:VCALENDAR