BEGIN:VCALENDAR
VERSION:2.0
PRODID:-//Weston Museum - ECPv6.15.20//NONSGML v1.0//EN
CALSCALE:GREGORIAN
METHOD:PUBLISH
X-ORIGINAL-URL:https://westonmuseum.org
X-WR-CALDESC:Events for Weston Museum
REFRESH-INTERVAL;VALUE=DURATION:PT1H
X-Robots-Tag:noindex
X-PUBLISHED-TTL:PT1H
BEGIN:VTIMEZONE
TZID:Europe/London
BEGIN:DAYLIGHT
TZOFFSETFROM:+0000
TZOFFSETTO:+0100
TZNAME:BST
DTSTART:20240331T010000
END:DAYLIGHT
BEGIN:STANDARD
TZOFFSETFROM:+0100
TZOFFSETTO:+0000
TZNAME:GMT
DTSTART:20241027T010000
END:STANDARD
BEGIN:DAYLIGHT
TZOFFSETFROM:+0000
TZOFFSETTO:+0100
TZNAME:BST
DTSTART:20250330T010000
END:DAYLIGHT
BEGIN:STANDARD
TZOFFSETFROM:+0100
TZOFFSETTO:+0000
TZNAME:GMT
DTSTART:20251026T010000
END:STANDARD
BEGIN:DAYLIGHT
TZOFFSETFROM:+0000
TZOFFSETTO:+0100
TZNAME:BST
DTSTART:20260329T010000
END:DAYLIGHT
BEGIN:STANDARD
TZOFFSETFROM:+0100
TZOFFSETTO:+0000
TZNAME:GMT
DTSTART:20261025T010000
END:STANDARD
END:VTIMEZONE
BEGIN:VEVENT
DTSTART;TZID=Europe/London:20250321T190000
DTEND;TZID=Europe/London:20250321T203000
DTSTAMP:20260425T112710
CREATED:20250218T134013Z
LAST-MODIFIED:20250318T081944Z
UID:10004859-1742583600-1742589000@westonmuseum.org
SUMMARY:SOLD OUT Flat Holm and Steep Holm: A Talk About Both Islands
DESCRIPTION: Tim Orrell from Cardiff Council and Steve Parker from the Kenneth Allsop Memorial Trust present an educational and informative talk about the histories of both Flat Holm and Steep Holm Islands! \nTimes:\ndoors open: 19:00talk starts: 19:30talk ends (approximately): 20:30 \nCost:\n£5.00 per person\n🎟️ Limited Spaces Available: Book your tickets today to secure your place! Booking required to avoid disappointment. \nTicket Link:\nhttps://www.ticketsource.co.uk/westonmuseum/t-gakmxvq
URL:https://westonmuseum.org/event/a-talk-about-both-islands/
LOCATION:Weston Museum\, Burlington Street\, Weston-super-Mare\, Somerset\, BS23 1PR\, United Kingdom
CATEGORIES:Adult,Educational,Family,Museum Events,Regular Activities,Special Events,Talks & tours,Young person (ages 16-24)
ATTACH;FMTTYPE=image/png:https://westonmuseum.org/wp-content/uploads/2025/02/210325-THE-ISLANDS-TALK-WEBSITE.png
ORGANIZER;CN="Weston Museum":MAILTO:museum@wsm-tc.gov.uk
END:VEVENT
BEGIN:VEVENT
DTSTART;TZID=Europe/London:20250329T100000
DTEND;TZID=Europe/London:20250329T140000
DTSTAMP:20260425T112710
CREATED:20241031T130943Z
LAST-MODIFIED:20241031T130943Z
UID:10004534-1743242400-1743256800@westonmuseum.org
SUMMARY:🛍️ Monthly Market 🩷
DESCRIPTION:🛍️ Come along to our Monthly Market\, and support your local small businesses! 🩷\n🗓️ We will be joined by a wonderful bunch of local businesses and makers on the last Saturday of every month (excluding December) in our wonderful and atmospheric Courtyard! \n🧡 With our wide and wonderful range of local stallholders and businesses\, we’re sure you’ll find the perfect gift for a loved one (or yourself!). Our stallholders also change regularly\, meaning every month has a unique mix of stalls! \n🍴 Clara’s Café will have its usual tempting treats\, alongside some occasional seasonal specialities! \n🎟️ Entry to the Monthly Market is FREE\, FREE\, FREE! \n❓ Looking to be a stallholder at our Monthly Markets ❓ Please fill out the registration form here: https://forms.gle/wGkoxPTQmBfoqJHF9 and we will be in touch in 5 working days!
URL:https://westonmuseum.org/event/monthly-market-2025/2025-03-29/
LOCATION:Weston Museum\, Burlington Street\, Weston-super-Mare\, Somerset\, BS23 1PR\, United Kingdom
CATEGORIES:Adult,Family,Free,Museum Events,Regular Activities,Special Events,Young person (ages 16-24)
ATTACH;FMTTYPE=image/png:https://westonmuseum.org/wp-content/uploads/2024/10/MONTHLY-MARKET-WEBSITE.png
ORGANIZER;CN="Weston Museum":MAILTO:museum@wsm-tc.gov.uk
END:VEVENT
END:VCALENDAR