BEGIN:VCALENDAR
VERSION:2.0
PRODID:-//Weston Museum - ECPv6.15.20//NONSGML v1.0//EN
CALSCALE:GREGORIAN
METHOD:PUBLISH
X-WR-CALNAME:Weston Museum
X-ORIGINAL-URL:https://westonmuseum.org
X-WR-CALDESC:Events for Weston Museum
REFRESH-INTERVAL;VALUE=DURATION:PT1H
X-Robots-Tag:noindex
X-PUBLISHED-TTL:PT1H
BEGIN:VTIMEZONE
TZID:Europe/London
BEGIN:DAYLIGHT
TZOFFSETFROM:+0000
TZOFFSETTO:+0100
TZNAME:BST
DTSTART:20240331T010000
END:DAYLIGHT
BEGIN:STANDARD
TZOFFSETFROM:+0100
TZOFFSETTO:+0000
TZNAME:GMT
DTSTART:20241027T010000
END:STANDARD
BEGIN:DAYLIGHT
TZOFFSETFROM:+0000
TZOFFSETTO:+0100
TZNAME:BST
DTSTART:20250330T010000
END:DAYLIGHT
BEGIN:STANDARD
TZOFFSETFROM:+0100
TZOFFSETTO:+0000
TZNAME:GMT
DTSTART:20251026T010000
END:STANDARD
BEGIN:DAYLIGHT
TZOFFSETFROM:+0000
TZOFFSETTO:+0100
TZNAME:BST
DTSTART:20260329T010000
END:DAYLIGHT
BEGIN:STANDARD
TZOFFSETFROM:+0100
TZOFFSETTO:+0000
TZNAME:GMT
DTSTART:20261025T010000
END:STANDARD
END:VTIMEZONE
BEGIN:VEVENT
DTSTART;TZID=Europe/London:20250125T100000
DTEND;TZID=Europe/London:20250125T140000
DTSTAMP:20260425T111916
CREATED:20241031T130943Z
LAST-MODIFIED:20241031T130943Z
UID:10004532-1737799200-1737813600@westonmuseum.org
SUMMARY:🛍️ Monthly Market 🩷
DESCRIPTION:🛍️ Come along to our Monthly Market\, and support your local small businesses! 🩷\n🗓️ We will be joined by a wonderful bunch of local businesses and makers on the last Saturday of every month (excluding December) in our wonderful and atmospheric Courtyard! \n🧡 With our wide and wonderful range of local stallholders and businesses\, we’re sure you’ll find the perfect gift for a loved one (or yourself!). Our stallholders also change regularly\, meaning every month has a unique mix of stalls! \n🍴 Clara’s Café will have its usual tempting treats\, alongside some occasional seasonal specialities! \n🎟️ Entry to the Monthly Market is FREE\, FREE\, FREE! \n❓ Looking to be a stallholder at our Monthly Markets ❓ Please fill out the registration form here: https://forms.gle/wGkoxPTQmBfoqJHF9 and we will be in touch in 5 working days!
URL:https://westonmuseum.org/event/monthly-market-2025/2025-01-25/
LOCATION:Weston Museum\, Burlington Street\, Weston-super-Mare\, Somerset\, BS23 1PR\, United Kingdom
CATEGORIES:Adult,Family,Free,Museum Events,Regular Activities,Special Events,Young person (ages 16-24)
ATTACH;FMTTYPE=image/png:https://westonmuseum.org/wp-content/uploads/2024/10/MONTHLY-MARKET-WEBSITE.png
ORGANIZER;CN="Weston Museum":MAILTO:museum@wsm-tc.gov.uk
END:VEVENT
END:VCALENDAR