BEGIN:VCALENDAR
VERSION:2.0
PRODID:-//Weston Museum - ECPv6.15.20//NONSGML v1.0//EN
CALSCALE:GREGORIAN
METHOD:PUBLISH
X-ORIGINAL-URL:https://westonmuseum.org
X-WR-CALDESC:Events for Weston Museum
REFRESH-INTERVAL;VALUE=DURATION:PT1H
X-Robots-Tag:noindex
X-PUBLISHED-TTL:PT1H
BEGIN:VTIMEZONE
TZID:Europe/London
BEGIN:DAYLIGHT
TZOFFSETFROM:+0000
TZOFFSETTO:+0100
TZNAME:BST
DTSTART:20230326T010000
END:DAYLIGHT
BEGIN:STANDARD
TZOFFSETFROM:+0100
TZOFFSETTO:+0000
TZNAME:GMT
DTSTART:20231029T010000
END:STANDARD
BEGIN:DAYLIGHT
TZOFFSETFROM:+0000
TZOFFSETTO:+0100
TZNAME:BST
DTSTART:20240331T010000
END:DAYLIGHT
BEGIN:STANDARD
TZOFFSETFROM:+0100
TZOFFSETTO:+0000
TZNAME:GMT
DTSTART:20241027T010000
END:STANDARD
BEGIN:DAYLIGHT
TZOFFSETFROM:+0000
TZOFFSETTO:+0100
TZNAME:BST
DTSTART:20250330T010000
END:DAYLIGHT
BEGIN:STANDARD
TZOFFSETFROM:+0100
TZOFFSETTO:+0000
TZNAME:GMT
DTSTART:20251026T010000
END:STANDARD
END:VTIMEZONE
BEGIN:VEVENT
DTSTART;TZID=Europe/London:20241010T143000
DTEND;TZID=Europe/London:20241010T153000
DTSTAMP:20260422T114853
CREATED:20240731T075233Z
LAST-MODIFIED:20240731T075233Z
UID:10004370-1728570600-1728574200@westonmuseum.org
SUMMARY:Heritage Talk - Weston at War\, (World War Two)\, by Chris Fisher & Jane Hill
DESCRIPTION:Hear some wartime recollections of local characters\, collected by oral history recording.  There will also be a short illustrated talk on the second world war and how it impacted Weston-super-Mare\, looking at Weston airfield\, HMS Birnbeck and the Blitz. \nChris Fisher is a long standing volunteer at Weston Museum and has collected many oral histories over the years\, capturing the memories of local people.  Jane Hill is the museum’s Heritage & Community Officer.
URL:https://westonmuseum.org/event/heritage-talk-weston-at-war-world-war-two-by-chris-fisher-jane-hill/
LOCATION:Weston Museum\, Burlington Street\, Weston-super-Mare\, Somerset\, BS23 1PR\, United Kingdom
CATEGORIES:Adult,Educational,Free,Museum Events,Regular Activities,Talks & tours
ATTACH;FMTTYPE=image/png:https://westonmuseum.org/wp-content/uploads/2023/07/Heritage-Talks.png
ORGANIZER;CN="Weston Museum":MAILTO:museum@wsm-tc.gov.uk
END:VEVENT
BEGIN:VEVENT
DTSTART;TZID=Europe/London:20241014T193000
DTEND;TZID=Europe/London:20241014T210000
DTSTAMP:20260422T114853
CREATED:20240713T124048Z
LAST-MODIFIED:20241008T095229Z
UID:10004344-1728934200-1728939600@westonmuseum.org
SUMMARY:Civic Society Talk – How The Railways Influenced Weston
DESCRIPTION:Join the Civic Society for their monthly talk. This month’s speaker is Town Mayor\, Councillor John Crockford-Hawley.\nPart of the Heritage Talk series thanks to support from Historic England and the High Street Heritage Action Zone. \nTimes:\ndoors open 19:00\ntalk starts 19:30 \nCost:\nAll are welcome – entrance is free to members\, and £2.00 for non-members.
URL:https://westonmuseum.org/event/civic-society-talk-how-the-railways-influenced-weston/
LOCATION:Weston Museum\, Burlington Street\, Weston-super-Mare\, Somerset\, BS23 1PR\, United Kingdom
CATEGORIES:Adult,Educational,Museum Events,Regular Activities,Talks & tours,Young person (ages 16-24)
ATTACH;FMTTYPE=image/png:https://westonmuseum.org/wp-content/uploads/2024/01/CIVIC-SOCIETY-ADVERTISING-HEADER.png
END:VEVENT
BEGIN:VEVENT
DTSTART;TZID=Europe/London:20241016T143000
DTEND;TZID=Europe/London:20241016T160000
DTSTAMP:20260422T114853
CREATED:20240425T101525Z
LAST-MODIFIED:20240501T125518Z
UID:10003468-1729089000-1729094400@westonmuseum.org
SUMMARY:Friends of the Museum Talk – Ship Shape and Bristol Fashion
DESCRIPTION:Join the Friends of Weston-super-Mare Museum for their monthly talk. This month’s speaker is Steve Loader.\nTimes:\ntalk starts 14:30 \nCost (admission price includes a cup of tea / coffee and biscuit):\n£2.00 for members\n£4.00 for non-members
URL:https://westonmuseum.org/event/friends-of-the-museum-talk-ship-shape-and-bristol-fashion/
LOCATION:Weston Museum\, Burlington Street\, Weston-super-Mare\, Somerset\, BS23 1PR\, United Kingdom
CATEGORIES:Adult,Educational,Museum Events,Regular Activities,Talks & tours,Young person (ages 16-24)
ATTACH;FMTTYPE=image/png:https://westonmuseum.org/wp-content/uploads/2024/01/FRIENDS-ADVERTISING-HEADER.png
END:VEVENT
END:VCALENDAR