BEGIN:VCALENDAR
VERSION:2.0
PRODID:-//Weston Museum - ECPv6.15.20//NONSGML v1.0//EN
CALSCALE:GREGORIAN
METHOD:PUBLISH
X-WR-CALNAME:Weston Museum
X-ORIGINAL-URL:https://westonmuseum.org
X-WR-CALDESC:Events for Weston Museum
REFRESH-INTERVAL;VALUE=DURATION:PT1H
X-Robots-Tag:noindex
X-PUBLISHED-TTL:PT1H
BEGIN:VTIMEZONE
TZID:Europe/London
BEGIN:DAYLIGHT
TZOFFSETFROM:+0000
TZOFFSETTO:+0100
TZNAME:BST
DTSTART:20240331T010000
END:DAYLIGHT
BEGIN:STANDARD
TZOFFSETFROM:+0100
TZOFFSETTO:+0000
TZNAME:GMT
DTSTART:20241027T010000
END:STANDARD
BEGIN:DAYLIGHT
TZOFFSETFROM:+0000
TZOFFSETTO:+0100
TZNAME:BST
DTSTART:20250330T010000
END:DAYLIGHT
BEGIN:STANDARD
TZOFFSETFROM:+0100
TZOFFSETTO:+0000
TZNAME:GMT
DTSTART:20251026T010000
END:STANDARD
BEGIN:DAYLIGHT
TZOFFSETFROM:+0000
TZOFFSETTO:+0100
TZNAME:BST
DTSTART:20260329T010000
END:DAYLIGHT
BEGIN:STANDARD
TZOFFSETFROM:+0100
TZOFFSETTO:+0000
TZNAME:GMT
DTSTART:20261025T010000
END:STANDARD
END:VTIMEZONE
BEGIN:VEVENT
DTSTART;TZID=Europe/London:20250501T143000
DTEND;TZID=Europe/London:20250501T153000
DTSTAMP:20260423T114635
CREATED:20241106T093541Z
LAST-MODIFIED:20241106T093541Z
UID:10004546-1746109800-1746113400@westonmuseum.org
SUMMARY:Heritage Talk - Old Cinemas and Theatres of Weston-super-Mare
DESCRIPTION:How did cinema and theatre evolve in the 20th century?  Take a closer look at the old cinemas and theatres of Weston-super-Mare\, through historic photographs.  Discover more about our lost and surviving places of entertainment. \nThe heritage talk is given by Jane Hill\, Heritage & Community Officer at Weston Museum.
URL:https://westonmuseum.org/event/heritage-talk-old-cinemas-and-theatres-of-weston-super-mare/
LOCATION:Weston Museum\, Burlington Street\, Weston-super-Mare\, Somerset\, BS23 1PR\, United Kingdom
CATEGORIES:Adult,Educational,Free,Museum Events,Regular Activities,Talks & tours
ATTACH;FMTTYPE=image/png:https://westonmuseum.org/wp-content/uploads/2023/07/Heritage-Talks.png
ORGANIZER;CN="Weston Museum":MAILTO:museum@wsm-tc.gov.uk
END:VEVENT
END:VCALENDAR