BEGIN:VCALENDAR
VERSION:2.0
PRODID:-//Weston Museum - ECPv6.15.20//NONSGML v1.0//EN
CALSCALE:GREGORIAN
METHOD:PUBLISH
X-WR-CALNAME:Weston Museum
X-ORIGINAL-URL:https://westonmuseum.org
X-WR-CALDESC:Events for Weston Museum
REFRESH-INTERVAL;VALUE=DURATION:PT1H
X-Robots-Tag:noindex
X-PUBLISHED-TTL:PT1H
BEGIN:VTIMEZONE
TZID:Europe/London
BEGIN:DAYLIGHT
TZOFFSETFROM:+0000
TZOFFSETTO:+0100
TZNAME:BST
DTSTART:20220327T010000
END:DAYLIGHT
BEGIN:STANDARD
TZOFFSETFROM:+0100
TZOFFSETTO:+0000
TZNAME:GMT
DTSTART:20221030T010000
END:STANDARD
BEGIN:DAYLIGHT
TZOFFSETFROM:+0000
TZOFFSETTO:+0100
TZNAME:BST
DTSTART:20230326T010000
END:DAYLIGHT
BEGIN:STANDARD
TZOFFSETFROM:+0100
TZOFFSETTO:+0000
TZNAME:GMT
DTSTART:20231029T010000
END:STANDARD
BEGIN:DAYLIGHT
TZOFFSETFROM:+0000
TZOFFSETTO:+0100
TZNAME:BST
DTSTART:20240331T010000
END:DAYLIGHT
BEGIN:STANDARD
TZOFFSETFROM:+0100
TZOFFSETTO:+0000
TZNAME:GMT
DTSTART:20241027T010000
END:STANDARD
BEGIN:DAYLIGHT
TZOFFSETFROM:+0000
TZOFFSETTO:+0100
TZNAME:BST
DTSTART:20250330T010000
END:DAYLIGHT
BEGIN:STANDARD
TZOFFSETFROM:+0100
TZOFFSETTO:+0000
TZNAME:GMT
DTSTART:20251026T010000
END:STANDARD
BEGIN:DAYLIGHT
TZOFFSETFROM:+0000
TZOFFSETTO:+0100
TZNAME:BST
DTSTART:20260329T010000
END:DAYLIGHT
BEGIN:STANDARD
TZOFFSETFROM:+0100
TZOFFSETTO:+0000
TZNAME:GMT
DTSTART:20261025T010000
END:STANDARD
BEGIN:DAYLIGHT
TZOFFSETFROM:+0000
TZOFFSETTO:+0100
TZNAME:BST
DTSTART:20270328T010000
END:DAYLIGHT
BEGIN:STANDARD
TZOFFSETFROM:+0100
TZOFFSETTO:+0000
TZNAME:GMT
DTSTART:20271031T010000
END:STANDARD
END:VTIMEZONE
BEGIN:VTIMEZONE
TZID:UTC
BEGIN:STANDARD
TZOFFSETFROM:+0000
TZOFFSETTO:+0000
TZNAME:UTC
DTSTART:20220101T000000
END:STANDARD
END:VTIMEZONE
BEGIN:VEVENT
DTSTART;TZID=Europe/London:20260413T193000
DTEND;TZID=Europe/London:20260413T210000
DTSTAMP:20260422T103612
CREATED:20260103T104359Z
LAST-MODIFIED:20260103T104359Z
UID:10006161-1776108600-1776114000@westonmuseum.org
SUMMARY:Civic Society – AGM and Annual Awards Evening
DESCRIPTION:Join the Civic Society for their AGM and Annual Awards Evening.\nTheir Annual General Meeting at 7pm\, members only\, followed at 7.30pm by their Annual Awards Evening where we recognise and celebrate excellence in Weston architecture. \nPart of the Heritage Talk series thanks to support from Historic England and the High Street Heritage Action Zone. \nTimes:\nAGM 19:00\nAwards 19:30 \nCost:\nAll are welcome – entrance is free to members\, and £2.00 for non-members.
URL:https://westonmuseum.org/event/civic-society-agm-and-annual-awards-evening-2026/
LOCATION:Weston Museum\, Burlington Street\, Weston-super-Mare\, Somerset\, BS23 1PR\, United Kingdom
CATEGORIES:Adult,Educational,Museum Events,Regular Activities,Talks & tours,Young person (ages 16-24)
ATTACH;FMTTYPE=image/png:https://westonmuseum.org/wp-content/uploads/2024/01/CIVIC-SOCIETY-ADVERTISING-HEADER.png
END:VEVENT
BEGIN:VEVENT
DTSTART;TZID=Europe/London:20260309T193000
DTEND;TZID=Europe/London:20260309T210000
DTSTAMP:20260422T103612
CREATED:20260103T104259Z
LAST-MODIFIED:20260103T104259Z
UID:10006160-1773084600-1773090000@westonmuseum.org
SUMMARY:Civic Society – RAF Locking
DESCRIPTION:Join the Civic Society for their monthly talk.\nSimon Begent from Locking Heritage relates the history of RAF Locking and its importance during the Second World War. Now redeveloped for housing\, its contribution to Weston’s past must not be forgotten. \nPart of the Heritage Talk series thanks to support from Historic England and the High Street Heritage Action Zone. \nTimes:\ndoors open 19:00\ntalk starts 19:30 \nCost:\nAll are welcome – entrance is free to members\, and £2.00 for non-members.
URL:https://westonmuseum.org/event/civic-society-raf-locking/
LOCATION:Weston Museum\, Burlington Street\, Weston-super-Mare\, Somerset\, BS23 1PR\, United Kingdom
CATEGORIES:Adult,Educational,Museum Events,Regular Activities,Talks & tours,Young person (ages 16-24)
ATTACH;FMTTYPE=image/png:https://westonmuseum.org/wp-content/uploads/2024/01/CIVIC-SOCIETY-ADVERTISING-HEADER.png
END:VEVENT
BEGIN:VEVENT
DTSTART;TZID=Europe/London:20260209T193000
DTEND;TZID=Europe/London:20260209T210000
DTSTAMP:20260422T103612
CREATED:20260103T104219Z
LAST-MODIFIED:20260103T104219Z
UID:10006159-1770665400-1770670800@westonmuseum.org
SUMMARY:Civic Society – Birnbeck Pier: The Way Forward
DESCRIPTION:Join the Civic Society for their monthly talk.\nLorna Clarke of North Somerset Council will tell us about the future of the island and the bridge and the progress towards achieving it. \nPart of the Heritage Talk series thanks to support from Historic England and the High Street Heritage Action Zone. \nTimes:\ndoors open 19:00\ntalk starts 19:30 \nCost:\nAll are welcome – entrance is free to members\, and £2.00 for non-members.
URL:https://westonmuseum.org/event/civic-society-birnbeck-pier-the-way-forward/
LOCATION:Weston Museum\, Burlington Street\, Weston-super-Mare\, Somerset\, BS23 1PR\, United Kingdom
CATEGORIES:Adult,Educational,Museum Events,Regular Activities,Talks & tours,Young person (ages 16-24)
ATTACH;FMTTYPE=image/png:https://westonmuseum.org/wp-content/uploads/2024/01/CIVIC-SOCIETY-ADVERTISING-HEADER.png
END:VEVENT
BEGIN:VEVENT
DTSTART;TZID=Europe/London:20260112T193000
DTEND;TZID=Europe/London:20260112T210000
DTSTAMP:20260422T103612
CREATED:20260103T104147Z
LAST-MODIFIED:20260103T104147Z
UID:10006158-1768246200-1768251600@westonmuseum.org
SUMMARY:Civic Society – The Birnbeck Regeneration Trust
DESCRIPTION:Join the Civic Society for their monthly talk.\nBirnbeck Regeneration Trust archivist Peter Lander recounts the history of the iconic Birnbeck Pier\, or\, as Peter more accurately describes it\, the Birnbeck Bridge. Peter celebrates the heyday of this well-loved Weston monument. \nPart of the Heritage Talk series thanks to support from Historic England and the High Street Heritage Action Zone. \nTimes:\ndoors open 19:00\ntalk starts 19:30 \nCost:\nAll are welcome – entrance is free to members\, and £2.00 for non-members.
URL:https://westonmuseum.org/event/civic-society-the-birnbeck-regeneration-trust/
LOCATION:Weston Museum\, Burlington Street\, Weston-super-Mare\, Somerset\, BS23 1PR\, United Kingdom
CATEGORIES:Adult,Educational,Museum Events,Regular Activities,Talks & tours,Young person (ages 16-24)
ATTACH;FMTTYPE=image/png:https://westonmuseum.org/wp-content/uploads/2024/01/CIVIC-SOCIETY-ADVERTISING-HEADER.png
END:VEVENT
BEGIN:VEVENT
DTSTART;TZID=Europe/London:20251208T193000
DTEND;TZID=Europe/London:20251208T210000
DTSTAMP:20260422T103612
CREATED:20251115T121904Z
LAST-MODIFIED:20251115T141852Z
UID:10005826-1765222200-1765227600@westonmuseum.org
SUMMARY:Civic Society – Christmas Quiz
DESCRIPTION:Join the Civic Society for their monthly talk. This month is their Christmas special\, where you pit your wits against Quizmaster Alan Rice.\nPart of the Heritage Talk series thanks to support from Historic England and the High Street Heritage Action Zone. \nTimes:\ndoors open 19:00\ntalk starts 19:30 \nCost:\nAll are welcome – entrance is free to members\, and £2.00 for non-members.
URL:https://westonmuseum.org/event/civic-society-christmas-quiz-2025/
LOCATION:Weston Museum\, Burlington Street\, Weston-super-Mare\, Somerset\, BS23 1PR\, United Kingdom
CATEGORIES:Adult,Educational,Museum Events,Regular Activities,Talks & tours,Young person (ages 16-24)
ATTACH;FMTTYPE=image/png:https://westonmuseum.org/wp-content/uploads/2024/01/CIVIC-SOCIETY-ADVERTISING-HEADER.png
END:VEVENT
BEGIN:VEVENT
DTSTART;TZID=Europe/London:20250908T193000
DTEND;TZID=Europe/London:20250908T210000
DTSTAMP:20260422T103612
CREATED:20250416T163358Z
LAST-MODIFIED:20250416T163358Z
UID:10004993-1757359800-1757365200@westonmuseum.org
SUMMARY:Civic Society – The Winterstoke Road Bridge
DESCRIPTION:Join the Civic Society for their monthly talk.\nPart of the Heritage Talk series thanks to support from Historic England and the High Street Heritage Action Zone. \nTimes:\ndoors open 19:00\ntalk starts 19:30 \nCost:\nAll are welcome – entrance is free to members\, and £2.00 for non-members.
URL:https://westonmuseum.org/event/civic-society-the-winterstoke-road-bridge/
LOCATION:Weston Museum\, Burlington Street\, Weston-super-Mare\, Somerset\, BS23 1PR\, United Kingdom
CATEGORIES:Adult,Educational,Museum Events,Regular Activities,Talks & tours,Young person (ages 16-24)
ATTACH;FMTTYPE=image/png:https://westonmuseum.org/wp-content/uploads/2024/01/CIVIC-SOCIETY-ADVERTISING-HEADER.png
END:VEVENT
BEGIN:VEVENT
DTSTART;TZID=Europe/London:20250609T193000
DTEND;TZID=Europe/London:20250609T210000
DTSTAMP:20260422T103612
CREATED:20250416T163319Z
LAST-MODIFIED:20250416T163319Z
UID:10004992-1749497400-1749502800@westonmuseum.org
SUMMARY:Civic Society – "Healthy Weston" - Update from Bristol & Weston Hospital Trust
DESCRIPTION:Join the Civic Society for their monthly talk.\nWhat’s happening with Healthy Weston? It’s all happening at Weston General Hospital! Hospital Director Judith Hernandez del Pino reveals the extensive changes. \nPart of the Heritage Talk series thanks to support from Historic England and the High Street Heritage Action Zone. \nTimes:\ndoors open 19:00\ntalk starts 19:30 \nCost:\nAll are welcome – entrance is free to members\, and £2.00 for non-members.
URL:https://westonmuseum.org/event/civic-society-healthy-weston/
LOCATION:Weston Museum\, Burlington Street\, Weston-super-Mare\, Somerset\, BS23 1PR\, United Kingdom
CATEGORIES:Adult,Educational,Museum Events,Regular Activities,Talks & tours,Young person (ages 16-24)
ATTACH;FMTTYPE=image/png:https://westonmuseum.org/wp-content/uploads/2024/01/CIVIC-SOCIETY-ADVERTISING-HEADER.png
END:VEVENT
BEGIN:VEVENT
DTSTART;TZID=Europe/London:20250512T193000
DTEND;TZID=Europe/London:20250512T210000
DTSTAMP:20260422T103612
CREATED:20250416T163151Z
LAST-MODIFIED:20250416T163151Z
UID:10004991-1747078200-1747083600@westonmuseum.org
SUMMARY:Civic Society – The Weston Fire Service
DESCRIPTION:Join the Civic Society for their monthly talk.\nAvon & Fire Rescue share the services and response offered at Weston Fire Station. They may even bring their fire engine! Unless they get a shout of course. \nPart of the Heritage Talk series thanks to support from Historic England and the High Street Heritage Action Zone. \nTimes:\ndoors open 19:00\ntalk starts 19:30 \nCost:\nAll are welcome – entrance is free to members\, and £2.00 for non-members.
URL:https://westonmuseum.org/event/civic-society-the-weston-fire-service/
LOCATION:Weston Museum\, Burlington Street\, Weston-super-Mare\, Somerset\, BS23 1PR\, United Kingdom
CATEGORIES:Adult,Educational,Museum Events,Regular Activities,Talks & tours,Young person (ages 16-24)
ATTACH;FMTTYPE=image/png:https://westonmuseum.org/wp-content/uploads/2024/01/CIVIC-SOCIETY-ADVERTISING-HEADER.png
END:VEVENT
BEGIN:VEVENT
DTSTART;TZID=Europe/London:20250310T193000
DTEND;TZID=Europe/London:20250310T210000
DTSTAMP:20260422T103612
CREATED:20250212T114223Z
LAST-MODIFIED:20250212T114223Z
UID:10004858-1741635000-1741640400@westonmuseum.org
SUMMARY:Civic Society – The Go-op Cooperative Railway
DESCRIPTION:Join the Civic Society for their monthly talk.\nPart of the Heritage Talk series thanks to support from Historic England and the High Street Heritage Action Zone. \nTimes:\ndoors open 19:00\ntalk starts 19:30 \nCost:\nAll are welcome – entrance is free to members\, and £2.00 for non-members.
URL:https://westonmuseum.org/event/civic-society-the-goop-cooperative-railway/
LOCATION:Weston Museum\, Burlington Street\, Weston-super-Mare\, Somerset\, BS23 1PR\, United Kingdom
CATEGORIES:Adult,Educational,Museum Events,Regular Activities,Talks & tours,Young person (ages 16-24)
ATTACH;FMTTYPE=image/png:https://westonmuseum.org/wp-content/uploads/2024/01/CIVIC-SOCIETY-ADVERTISING-HEADER.png
END:VEVENT
BEGIN:VEVENT
DTSTART;TZID=Europe/London:20250210T193000
DTEND;TZID=Europe/London:20250210T210000
DTSTAMP:20260422T103612
CREATED:20250102T090911Z
LAST-MODIFIED:20250102T090926Z
UID:10004839-1739215800-1739221200@westonmuseum.org
SUMMARY:Civic Society – The Greek Community in Weston-super-Mare
DESCRIPTION:Join the Civic Society for their monthly talk. This month’s speaker is NSC Councillor Mike Solomon.\nPart of the Heritage Talk series thanks to support from Historic England and the High Street Heritage Action Zone. \nTimes:\ndoors open 19:00\ntalk starts 19:30 \nCost:\nAll are welcome – entrance is free to members\, and £2.00 for non-members.
URL:https://westonmuseum.org/event/civic-society-the-greek-community-in-wsm/
LOCATION:Weston Museum\, Burlington Street\, Weston-super-Mare\, Somerset\, BS23 1PR\, United Kingdom
CATEGORIES:Adult,Educational,Museum Events,Regular Activities,Talks & tours,Young person (ages 16-24)
ATTACH;FMTTYPE=image/png:https://westonmuseum.org/wp-content/uploads/2024/01/CIVIC-SOCIETY-ADVERTISING-HEADER.png
END:VEVENT
BEGIN:VEVENT
DTSTART;TZID=Europe/London:20241209T193000
DTEND;TZID=Europe/London:20241209T210000
DTSTAMP:20260422T103612
CREATED:20240713T124420Z
LAST-MODIFIED:20240713T124420Z
UID:10004346-1733772600-1733778000@westonmuseum.org
SUMMARY:Civic Society – Christmas Quiz
DESCRIPTION:Join the Civic Society for their monthly talk. This month is their Christmas special\, where you pit your wits against Quizmaster Alan Rice.\nPart of the Heritage Talk series thanks to support from Historic England and the High Street Heritage Action Zone. \nTimes:\ndoors open 19:00\ntalk starts 19:30 \nCost:\nAll are welcome – entrance is free to members\, and £2.00 for non-members.
URL:https://westonmuseum.org/event/civic-society-christmas-quiz/
LOCATION:Weston Museum\, Burlington Street\, Weston-super-Mare\, Somerset\, BS23 1PR\, United Kingdom
CATEGORIES:Adult,Educational,Museum Events,Regular Activities,Talks & tours,Young person (ages 16-24)
ATTACH;FMTTYPE=image/png:https://westonmuseum.org/wp-content/uploads/2024/01/CIVIC-SOCIETY-ADVERTISING-HEADER.png
END:VEVENT
BEGIN:VEVENT
DTSTART;TZID=Europe/London:20241111T193000
DTEND;TZID=Europe/London:20241111T210000
DTSTAMP:20260422T103612
CREATED:20240713T124214Z
LAST-MODIFIED:20240713T124214Z
UID:10004345-1731353400-1731358800@westonmuseum.org
SUMMARY:Civic Society Talk – Highways and Pavements
DESCRIPTION:Join the Civic Society for their monthly talk. This month’s speaker is NSC Councillor Hannah Young.\nPart of the Heritage Talk series thanks to support from Historic England and the High Street Heritage Action Zone. \nTimes:\ndoors open 19:00\ntalk starts 19:30 \nCost:\nAll are welcome – entrance is free to members\, and £2.00 for non-members.
URL:https://westonmuseum.org/event/civic-society-talk-highways-and-pavements/
LOCATION:Weston Museum\, Burlington Street\, Weston-super-Mare\, Somerset\, BS23 1PR\, United Kingdom
CATEGORIES:Adult,Educational,Museum Events,Regular Activities,Talks & tours,Young person (ages 16-24)
ATTACH;FMTTYPE=image/png:https://westonmuseum.org/wp-content/uploads/2024/01/CIVIC-SOCIETY-ADVERTISING-HEADER.png
END:VEVENT
BEGIN:VEVENT
DTSTART;TZID=Europe/London:20241014T193000
DTEND;TZID=Europe/London:20241014T210000
DTSTAMP:20260422T103612
CREATED:20240713T124048Z
LAST-MODIFIED:20241008T095229Z
UID:10004344-1728934200-1728939600@westonmuseum.org
SUMMARY:Civic Society Talk – How The Railways Influenced Weston
DESCRIPTION:Join the Civic Society for their monthly talk. This month’s speaker is Town Mayor\, Councillor John Crockford-Hawley.\nPart of the Heritage Talk series thanks to support from Historic England and the High Street Heritage Action Zone. \nTimes:\ndoors open 19:00\ntalk starts 19:30 \nCost:\nAll are welcome – entrance is free to members\, and £2.00 for non-members.
URL:https://westonmuseum.org/event/civic-society-talk-how-the-railways-influenced-weston/
LOCATION:Weston Museum\, Burlington Street\, Weston-super-Mare\, Somerset\, BS23 1PR\, United Kingdom
CATEGORIES:Adult,Educational,Museum Events,Regular Activities,Talks & tours,Young person (ages 16-24)
ATTACH;FMTTYPE=image/png:https://westonmuseum.org/wp-content/uploads/2024/01/CIVIC-SOCIETY-ADVERTISING-HEADER.png
END:VEVENT
BEGIN:VEVENT
DTSTART;TZID=Europe/London:20240909T193000
DTEND;TZID=Europe/London:20240909T210000
DTSTAMP:20260422T103612
CREATED:20240713T123815Z
LAST-MODIFIED:20240713T123815Z
UID:10004343-1725910200-1725915600@westonmuseum.org
SUMMARY:Civic Society Talk – "Donate for Defib" - WsM Project
DESCRIPTION:Join the Civic Society for their monthly talk. This month’s speaker is Josh Bell\, Co-Leader Partner of the “Donate for Defib” WsM Project.\nPart of the Heritage Talk series thanks to support from Historic England and the High Street Heritage Action Zone. \nTimes:\ndoors open 19:00\ntalk starts 19:30 \nCost:\nAll are welcome – entrance is free to members\, and £2.00 for non-members.
URL:https://westonmuseum.org/event/civic-society-talk-donate-for-defib/
LOCATION:Weston Museum\, Burlington Street\, Weston-super-Mare\, Somerset\, BS23 1PR\, United Kingdom
CATEGORIES:Adult,Educational,Museum Events,Regular Activities,Talks & tours,Young person (ages 16-24)
ATTACH;FMTTYPE=image/png:https://westonmuseum.org/wp-content/uploads/2024/01/CIVIC-SOCIETY-ADVERTISING-HEADER.png
END:VEVENT
BEGIN:VEVENT
DTSTART;TZID=Europe/London:20240610T193000
DTEND;TZID=Europe/London:20240610T210000
DTSTAMP:20260422T103612
CREATED:20240521T125101Z
LAST-MODIFIED:20240521T125101Z
UID:10003511-1718047800-1718053200@westonmuseum.org
SUMMARY:Civic Society Talk – Weston's Own Rosie Smith's Tile Paintings
DESCRIPTION:Join the Civic Society for their monthly talk. This month’s speaker is Rosie Smith.\nPart of the Heritage Talk series thanks to support from Historic England and the High Street Heritage Action Zone. \nTimes:\ndoors open 19:00\ntalk starts 19:30 \nCost:\nAll are welcome – entrance is free to members\, and £2.00 for non-members.
URL:https://westonmuseum.org/event/civic-society-talk-westons-own-rosie-smiths-tile-paintings/
LOCATION:Weston Museum\, Burlington Street\, Weston-super-Mare\, Somerset\, BS23 1PR\, United Kingdom
CATEGORIES:Adult,Educational,Museum Events,Regular Activities,Talks & tours,Young person (ages 16-24)
ATTACH;FMTTYPE=image/png:https://westonmuseum.org/wp-content/uploads/2024/01/CIVIC-SOCIETY-ADVERTISING-HEADER.png
END:VEVENT
BEGIN:VEVENT
DTSTART;TZID=Europe/London:20240513T193000
DTEND;TZID=Europe/London:20240513T210000
DTSTAMP:20260422T103612
CREATED:20240113T135814Z
LAST-MODIFIED:20240113T135830Z
UID:10002913-1715628600-1715634000@westonmuseum.org
SUMMARY:Civic Society Talk – The High Street HAZ Legacy
DESCRIPTION:Join the Civic Society for their monthly talk. This month’s speaker is Cara MacMahon.\nPart of the Heritage Talk series thanks to support from Historic England and the High Street Heritage Action Zone. \nTimes:\ndoors open 19:00\ntalk starts 19:30 \nCost:\nAll are welcome – entrance is free to members\, and £2.00 for non-members.
URL:https://westonmuseum.org/event/civic-society-talk-may-2024/
LOCATION:Weston Museum\, Burlington Street\, Weston-super-Mare\, Somerset\, BS23 1PR\, United Kingdom
CATEGORIES:Adult,Educational,Museum Events,Regular Activities,Talks & tours,Young person (ages 16-24)
ATTACH;FMTTYPE=image/png:https://westonmuseum.org/wp-content/uploads/2024/01/CIVIC-SOCIETY-ADVERTISING-HEADER.png
END:VEVENT
BEGIN:VEVENT
DTSTART;TZID=Europe/London:20240304T193000
DTEND;TZID=Europe/London:20240304T210000
DTSTAMP:20260422T103612
CREATED:20240113T122204Z
LAST-MODIFIED:20240113T122204Z
UID:10002901-1709580600-1709586000@westonmuseum.org
SUMMARY:Civic Society Talk – Birnbeck Pier: The Way Forward
DESCRIPTION:Join the Civic Society for their monthly talk. This month’s speaker is Rachel Lewis\, North Somerset Council Heritage & Design Manager.\nPart of the Heritage Talk series thanks to support from Historic England and the High Street Heritage Action Zone. \nTimes:\ndoors open 19:00\ntalk starts 19:30 \nCost:\nAll are welcome – entrance is free to members\, and £2.00 for non-members.
URL:https://westonmuseum.org/event/civic-society-talk-march-2024/
LOCATION:Weston Museum\, Burlington Street\, Weston-super-Mare\, Somerset\, BS23 1PR\, United Kingdom
CATEGORIES:Adult,Educational,Family,Museum Events,Regular Activities,Talks & tours,Young person (ages 16-24)
ATTACH;FMTTYPE=image/png:https://westonmuseum.org/wp-content/uploads/2024/01/CIVIC-SOCIETY-ADVERTISING-HEADER.png
END:VEVENT
BEGIN:VEVENT
DTSTART;TZID=Europe/London:20240212T193000
DTEND;TZID=Europe/London:20240212T210000
DTSTAMP:20260422T103612
CREATED:20240113T121700Z
LAST-MODIFIED:20240113T121700Z
UID:10002899-1707766200-1707771600@westonmuseum.org
SUMMARY:Civic Society Talk – Clough Williams-Ellis: The 1947 Weston Master Plan
DESCRIPTION:Join the Civic Society for their monthly talk. This month’s speaker is Councillor John Crockford-Hawley.\nThe 1947 Development Plan was so radical\, so car orientated and so dismissive of Victorian architecture that nothing short of starting anew was deemed appropriate for the town’s future prosperity. \n“A Garden City By The Sea” had an airing but this hugely controversial plan never left the drawing board (apart from one residential property which was built). \nAnd who were the great national figures behind this plan? The Hon Lionel Brett (Rector of the Royal College of Art and President of the RIBA) and Sir Clough Williams-Ellis (of Portmeirion fame). \nThe story has never really been told and few plans remain in existence but Councillor John Crockford-Hawley has researched the fascinating and controversial subject\, recreated plans from the old documents and produced a fully illustrated PowerPoint presentation especially for Weston Civic Society. \nPart of the Heritage Talk series thanks to support from Historic England and the High Street Heritage Action Zone. \nTimes:\ndoors open 19:00\ntalk starts 19:30 \nCost:\nAll are welcome – entrance is free to members\, and £2.00 for non-members.
URL:https://westonmuseum.org/event/civic-society-talk-february-2024/
LOCATION:Weston Museum\, Burlington Street\, Weston-super-Mare\, Somerset\, BS23 1PR\, United Kingdom
CATEGORIES:Adult,Educational,Family,Museum Events,Regular Activities,Talks & tours,Young person (ages 16-24)
ATTACH;FMTTYPE=image/png:https://westonmuseum.org/wp-content/uploads/2024/01/CIVIC-SOCIETY-ADVERTISING-HEADER.png
END:VEVENT
BEGIN:VEVENT
DTSTART;TZID=Europe/London:20231204T190000
DTEND;TZID=Europe/London:20231204T210000
DTSTAMP:20260422T103612
CREATED:20231129T104104Z
LAST-MODIFIED:20231129T104104Z
UID:10002250-1701716400-1701723600@westonmuseum.org
SUMMARY:Weston-super-Mare Civic Society Christmas Quiz
DESCRIPTION:🎄 Weston Civic Society Christmas Quiz 🎄\n☃️ Weston-super-Mare Civic Society are kicking off the festivities this year with their Civic Society Christmas Quiz. \n🧠 Test Your Knowledge: How much do YOU know about Weston? What do you know about Weston’s heroes? Pit your wits against quizmaster Alan Rice as he hosts this fun-filled evening. \n🎁 Prizes galore – points may mean prizes! 🎉 \n💷 Admission is £2.00 for non-members\, members go free. \n🖐️ Maximum of four to a team. \n🕖 Doors open 19:00 for a 19:30 start \n💡 Hint: knowledge of Weston’s Blue Plaques will prove useful! \n❓ Any Questions? Contact Weston-super-Mare Civic Society: https://www.westoncivicsociety.org.uk/contact
URL:https://westonmuseum.org/event/weston-super-mare-civic-society-christmas-quiz/
LOCATION:Weston Museum\, Burlington Street\, Weston-super-Mare\, Somerset\, BS23 1PR\, United Kingdom
CATEGORIES:Adult,Educational,Museum Events,Special Events,Young person (ages 16-24)
ATTACH;FMTTYPE=image/png:https://westonmuseum.org/wp-content/uploads/2023/11/Civic-Society-WEBSITE.png
END:VEVENT
BEGIN:VEVENT
DTSTART;TZID=UTC:20230612T190000
DTEND;TZID=UTC:20230612T203000
DTSTAMP:20260422T103612
CREATED:20230527T100255Z
LAST-MODIFIED:20230527T100255Z
UID:10001283-1686596400-1686601800@westonmuseum.org
SUMMARY:Civic Society Talk - Mould\, Damp & Bad Landlords
DESCRIPTION:Join the Civic Society for their FREE monthly talk. Alan Rice of Weston Housing AcTion recounts seven years of experience assisting tenants in issues with their landlords and proposes a solution.\n\n\nPart of the Heritage Talk series thanks to support from Historic England and the High Street Heritage Action Zone.\nTimes:\ndoors open 19:00\ntalk starts 19:30 \nCost:\nAll are welcome – entrance is free.
URL:https://westonmuseum.org/event/civic-society-talk-june-2023/
LOCATION:Weston Museum\, Burlington Street\, Weston-super-Mare\, Somerset\, BS23 1PR\, United Kingdom
CATEGORIES:Adult,Educational,Family,Free,Museum Events,Regular Activities,Talks & tours,Young person (ages 16-24)
ATTACH;FMTTYPE=image/png:https://westonmuseum.org/wp-content/uploads/2023/05/Civic-Society-Talk-WEBSITE.png
END:VEVENT
END:VCALENDAR